FILENAME: O4811361.NES.47286.tif
QUADRANGLE_NAME: HORSESHOE PEAK
QUADRANT: NE
WEST_LONGITUDE: -113 26 15.00000
EAST_LONGITUDE: -113 22 30.00000
NORTH_LATITUDE: 48 7 30.00000
SOUTH_LATITUDE: 48 3 45.00000
PRODUCTION_DATE: 1995 4 28
RASTER_ORDER: LEFT_RIGHT/TOP_BOTTOM
BAND_ORGANIZATION: SINGLE FILE
BAND_CONTENT: BLACK&WHITE
BAND_CONTENT: UNDEFINED
BAND_CONTENT: UNDEFINED
BITS_PER_PIXEL: 8
SAMPLES_AND_LINES: 5542 7698
HORIZONTAL_DATUM: NAD83
HORIZONTAL_COORDINATE_SYSTEM: UTM
COORDINATE_ZONE: 12
HORIZONTAL_UNITS: METERS
HORIZONTAL_RESOLUTION: 1.00000
SECONDARY_HORIZONTAL_DATUM: NAD27
XY_ORIGIN: 318029.00000 5333368.00000
SECONDARY_XY_ORIGIN: 318092.27000 5333151.99000
NATION: US
STATE: MT
NW_QUAD_CORNER_XY: 318619.03000 5333067.25000
NE_QUAD_CORNER_XY: 323269.53000 5332921.74000
SE_QUAD_CORNERY_XY: 323055.13000 5325975.65000
SW_QUAD_CORNER_XY: 318398.97000 5326121.19000
SECONDARY_NW_QUAD_XY: 318613.31000 5332848.43000
SECONDARY_NE_QUAD_XY: 323263.96000 5332702.92000
SECONDARY_SE_QUAD_XY: 323049.55000 5325756.84000
SECONDARY_SW_QUAD_XY: 318393.25000 5325902.39000
RMSE_XY: 5.20000
IMAGE_SOURCE: BLACK AND WHITE FILM
SOURCE_IMAGE_ID: NAPP 2634 106
SOURCE_IMAGE_DATE: 1991 8 3
SOURCE_IMAGE_ID: NAPP 2634 2634
SOURCE_IMAGE_DATE: 1991 8 3
SOURCE_IMAGE_ID: NAPP 2634 105
SOURCE_IMAGE_DATE: 1991 8 3
SOURCE_DEM_DATE: 1995 4 28
AGENCY: WESTERN MAPPING CENTER (WMC)
PRODUCER: Science Applications International
PRODUCTION_SYSTEM: GIS/MAGIC
COMPRESSION: UNDEFINED
STANDARD_VERSION: 1996 12
METADATA_DATE: 1997 7 4
DATA_FILE_SIZE: 42667858
BYTE_COUNT: 5542
