FILENAME: O4811361.NWS.47287.tif
QUADRANGLE_NAME: HORSESHOE PEAK
QUADRANT: NW
WEST_LONGITUDE: -113 30 0.00000
EAST_LONGITUDE: -113 26 15.00000
NORTH_LATITUDE: 48 7 30.00000
SOUTH_LATITUDE: 48 3 45.00000
PRODUCTION_DATE: 1994 11 14
RASTER_ORDER: LEFT_RIGHT/TOP_BOTTOM
BAND_ORGANIZATION: SINGLE FILE
BAND_CONTENT: BLACK&WHITE
BAND_CONTENT: UNDEFINED
BAND_CONTENT: UNDEFINED
BITS_PER_PIXEL: 8
SAMPLES_AND_LINES: 5549 7701
HORIZONTAL_DATUM: NAD83
HORIZONTAL_COORDINATE_SYSTEM: UTM
COORDINATE_ZONE: 12
HORIZONTAL_UNITS: METERS
HORIZONTAL_RESOLUTION: 1.00000
SECONDARY_HORIZONTAL_DATUM: NAD27
XY_ORIGIN: 313372.00000 5333517.00000
SECONDARY_XY_ORIGIN: 313435.35100 5333300.93900
NATION: US
STATE: MT
NW_QUAD_CORNER_XY: 313968.55300 5333216.54600
NE_QUAD_CORNER_XY: 318619.03200 5333067.25000
SE_QUAD_CORNERY_XY: 318398.97500 5326121.19300
SW_QUAD_CORNER_XY: 313742.84700 5326270.52400
SECONDARY_NW_QUAD_XY: 313962.68300 5332997.73300
SECONDARY_NE_QUAD_XY: 318613.30900 5332848.43200
SECONDARY_SE_QUAD_XY: 318393.25200 5325902.38900
SECONDARY_SW_QUAD_XY: 313736.97800 5326051.72400
RMSE_XY: 4.10000
IMAGE_SOURCE: BLACK AND WHITE FILM
SOURCE_IMAGE_ID: NAPP 2617 189
SOURCE_IMAGE_DATE: 1990 9 7
SOURCE_DEM_DATE: 1994 11 14
AGENCY: WESTERN MAPPING CENTER (WMC)
PRODUCER: Science Applications International
PRODUCTION_SYSTEM: IIS/PRISM
COMPRESSION: UNDEFINED
STANDARD_VERSION: 1996 12
METADATA_DATE: 1997 7 3
DATA_FILE_SIZE: 42738398
BYTE_COUNT: 5549
