FILENAME: O4811359.NES.47647.tif
QUADRANGLE_NAME: QUINTONKON
QUADRANT: NE
WEST_LONGITUDE: -113 41 15.00000
EAST_LONGITUDE: -113 37 30.00000
NORTH_LATITUDE: 48 7 30.00000
SOUTH_LATITUDE: 48 3 45.00000
PRODUCTION_DATE: 1994 11 14
RASTER_ORDER: LEFT_RIGHT/TOP_BOTTOM
BAND_ORGANIZATION: SINGLE FILE
BAND_CONTENT: BLACK&WHITE
BAND_CONTENT: UNDEFINED
BAND_CONTENT: UNDEFINED
BITS_PER_PIXEL: 8
SAMPLES_AND_LINES: 5565 7713
HORIZONTAL_DATUM: NAD83
HORIZONTAL_COORDINATE_SYSTEM: UTM
COORDINATE_ZONE: 12
HORIZONTAL_UNITS: METERS
HORIZONTAL_RESOLUTION: 1.00000
SECONDARY_HORIZONTAL_DATUM: NAD27
XY_ORIGIN: 299404.00000 5333988.00000
SECONDARY_XY_ORIGIN: 299467.19700 5333771.64400
NATION: US
STATE: MT
NW_QUAD_CORNER_XY: 300017.26300 5333687.13600
NE_QUAD_CORNER_XY: 304667.66800 5333526.48900
SE_QUAD_CORNERY_XY: 304430.66400 5326580.53900
SW_QUAD_CORNER_XY: 299774.60900 5326741.22500
SECONDARY_NW_QUAD_XY: 300010.95300 5333468.33800
SECONDARY_NE_QUAD_XY: 304661.50400 5333307.68500
SECONDARY_SE_QUAD_XY: 304424.50100 5326361.74900
SECONDARY_SW_QUAD_XY: 299768.29900 5326522.44000
RMSE_XY: 2.60000
IMAGE_SOURCE: BLACK AND WHITE FILM
SOURCE_IMAGE_ID: NAPP 2610 039
SOURCE_IMAGE_DATE: 1990 8 7
SOURCE_DEM_DATE: 1994 11 14
AGENCY: WESTERN MAPPING CENTER (WMC)
PRODUCER: Science Applications International
PRODUCTION_SYSTEM: IIS/PRISM
COMPRESSION: UNDEFINED
STANDARD_VERSION: 1996 12
METADATA_DATE: 1997 7 4
DATA_FILE_SIZE: 42928410
BYTE_COUNT: 5565
