FILENAME: O4811359.NWS.47648.tif
QUADRANGLE_NAME: QUINTONKON
QUADRANT: NW
WEST_LONGITUDE: -113 45 0.00000
EAST_LONGITUDE: -113 41 15.00000
NORTH_LATITUDE: 48 7 30.00000
SOUTH_LATITUDE: 48 3 45.00000
PRODUCTION_DATE: 1994 11 14
RASTER_ORDER: LEFT_RIGHT/TOP_BOTTOM
BAND_ORGANIZATION: SINGLE FILE
BAND_CONTENT: BLACK&WHITE
BAND_CONTENT: UNDEFINED
BAND_CONTENT: UNDEFINED
BITS_PER_PIXEL: 8
SAMPLES_AND_LINES: 5571 7716
HORIZONTAL_DATUM: NAD83
HORIZONTAL_COORDINATE_SYSTEM: UTM
COORDINATE_ZONE: 12
HORIZONTAL_UNITS: METERS
HORIZONTAL_RESOLUTION: 1.00000
SECONDARY_HORIZONTAL_DATUM: NAD27
XY_ORIGIN: 294748.00000 5334152.00000
SECONDARY_XY_ORIGIN: 294811.15000 5333935.54600
NATION: US
STATE: MT
NW_QUAD_CORNER_XY: 295366.88400 5333851.56900
NE_QUAD_CORNER_XY: 300017.26300 5333687.13600
SE_QUAD_CORNERY_XY: 299774.60900 5326741.22500
SW_QUAD_CORNER_XY: 295118.58000 5326905.69600
SECONDARY_NW_QUAD_XY: 295360.42700 5333632.77500
SECONDARY_NE_QUAD_XY: 300010.95300 5333468.33800
SECONDARY_SE_QUAD_XY: 299768.29900 5326522.44000
SECONDARY_SW_QUAD_XY: 295112.12300 5326686.91600
RMSE_XY: 2.00000
IMAGE_SOURCE: BLACK AND WHITE FILM
SOURCE_IMAGE_ID: NAPP 2617 036
SOURCE_IMAGE_DATE: 1990 9 7
SOURCE_DEM_DATE: 1994 11 14
AGENCY: WESTERN MAPPING CENTER (WMC)
PRODUCER: Science Applications International
PRODUCTION_SYSTEM: IIS/PRISM
COMPRESSION: UNDEFINED
STANDARD_VERSION: 1996 12
METADATA_DATE: 1997 7 4
DATA_FILE_SIZE: 42991407
BYTE_COUNT: 5571
