FILENAME: O4811358.NES.47806.tif
QUADRANGLE_NAME: BIG HAWK MOUNTAIN
QUADRANT: NE
WEST_LONGITUDE: -113 48 45.00000
EAST_LONGITUDE: -113 45 0.00000
NORTH_LATITUDE: 48 7 30.00000
SOUTH_LATITUDE: 48 3 45.00000
PRODUCTION_DATE: 1994 11 14
RASTER_ORDER: LEFT_RIGHT/TOP_BOTTOM
BAND_ORGANIZATION: SINGLE FILE
BAND_CONTENT: BLACK&WHITE
BAND_CONTENT: UNDEFINED
BAND_CONTENT: UNDEFINED
BITS_PER_PIXEL: 8
SAMPLES_AND_LINES: 5577 7720
HORIZONTAL_DATUM: NAD83
HORIZONTAL_COORDINATE_SYSTEM: UTM
COORDINATE_ZONE: 12
HORIZONTAL_UNITS: METERS
HORIZONTAL_RESOLUTION: 1.00000
SECONDARY_HORIZONTAL_DATUM: NAD27
XY_ORIGIN: 290091.00000 5334320.00000
SECONDARY_XY_ORIGIN: 290154.22700 5334103.48900
NATION: US
STATE: MT
NW_QUAD_CORNER_XY: 290716.53100 5334019.78600
NE_QUAD_CORNER_XY: 295366.88400 5333851.56900
SE_QUAD_CORNERY_XY: 295118.58000 5326905.69600
SW_QUAD_CORNER_XY: 290462.57600 5327073.95300
SECONDARY_NW_QUAD_XY: 290709.92700 5333800.99800
SECONDARY_NE_QUAD_XY: 295360.42700 5333632.77500
SECONDARY_SE_QUAD_XY: 295112.12300 5326686.91600
SECONDARY_SW_QUAD_XY: 290455.97300 5326855.17800
RMSE_XY: 2.10000
IMAGE_SOURCE: BLACK AND WHITE FILM
SOURCE_IMAGE_ID: NAPP 2636 025
SOURCE_IMAGE_DATE: 1991 8 4
SOURCE_DEM_DATE: 1994 11 14
AGENCY: WESTERN MAPPING CENTER (WMC)
PRODUCER: Science Applications International
PRODUCTION_SYSTEM: IIS/PRISM
COMPRESSION: UNDEFINED
STANDARD_VERSION: 1996 12
METADATA_DATE: 1997 6 19
DATA_FILE_SIZE: 43060017
BYTE_COUNT: 5577
