FILENAME: O4811358.NWS.47807.tif
QUADRANGLE_NAME: BIG HAWK MOUNTAIN
QUADRANT: NW
WEST_LONGITUDE: -113 52 30.00000
EAST_LONGITUDE: -113 48 45.00000
NORTH_LATITUDE: 48 7 30.00000
SOUTH_LATITUDE: 48 3 45.00000
PRODUCTION_DATE: 1994 11 14
RASTER_ORDER: LEFT_RIGHT/TOP_BOTTOM
BAND_ORGANIZATION: SINGLE FILE
BAND_CONTENT: BLACK&WHITE
BAND_CONTENT: UNDEFINED
BAND_CONTENT: UNDEFINED
BITS_PER_PIXEL: 8
SAMPLES_AND_LINES: 5583 7723
HORIZONTAL_DATUM: NAD83
HORIZONTAL_COORDINATE_SYSTEM: UTM
COORDINATE_ZONE: 12
HORIZONTAL_UNITS: METERS
HORIZONTAL_RESOLUTION: 1.00000
SECONDARY_HORIZONTAL_DATUM: NAD27
XY_ORIGIN: 285435.00000 5334492.00000
SECONDARY_XY_ORIGIN: 285498.28200 5334275.42500
NATION: US
STATE: MT
NW_QUAD_CORNER_XY: 286066.20600 5334191.78900
NE_QUAD_CORNER_XY: 290716.53100 5334019.78600
SE_QUAD_CORNERY_XY: 290462.57600 5327073.95300
SW_QUAD_CORNER_XY: 285806.59900 5327245.99600
SECONDARY_NW_QUAD_XY: 286059.45500 5333973.00600
SECONDARY_NE_QUAD_XY: 290709.92700 5333800.99800
SECONDARY_SE_QUAD_XY: 290455.97300 5326855.17800
SECONDARY_SW_QUAD_XY: 285799.84900 5327027.22700
RMSE_XY: 3.00000
IMAGE_SOURCE: BLACK AND WHITE FILM
SOURCE_IMAGE_ID: NAPP 2634 041
SOURCE_IMAGE_DATE: 1991 8 3
SOURCE_DEM_DATE: 1994 11 14
AGENCY: WESTERN MAPPING CENTER (WMC)
PRODUCER: Science Applications International
PRODUCTION_SYSTEM: IIS/PRISM
COMPRESSION: UNDEFINED
STANDARD_VERSION: 1996 12
METADATA_DATE: 1997 6 19
DATA_FILE_SIZE: 43123092
BYTE_COUNT: 5583
