FILENAME: O4811358.SWS.47809.tif
QUADRANGLE_NAME: BIG HAWK MOUNTAIN
QUADRANT: SW
WEST_LONGITUDE: -113 52 30.00000
EAST_LONGITUDE: -113 48 45.00000
NORTH_LATITUDE: 48 3 45.00000
SOUTH_LATITUDE: 48 0 0.00000
PRODUCTION_DATE: 1994 11 14
RASTER_ORDER: LEFT_RIGHT/TOP_BOTTOM
BAND_ORGANIZATION: SINGLE FILE
BAND_CONTENT: BLACK&WHITE
BAND_CONTENT: UNDEFINED
BAND_CONTENT: UNDEFINED
BITS_PER_PIXEL: 8
SAMPLES_AND_LINES: 5588 7723
HORIZONTAL_DATUM: NAD83
HORIZONTAL_COORDINATE_SYSTEM: UTM
COORDINATE_ZONE: 12
HORIZONTAL_UNITS: METERS
HORIZONTAL_RESOLUTION: 1.00000
SECONDARY_HORIZONTAL_DATUM: NAD27
XY_ORIGIN: 285176.00000 5327546.00000
SECONDARY_XY_ORIGIN: 285239.19800 5327329.77300
NATION: US
STATE: MT
NW_QUAD_CORNER_XY: 285806.59900 5327245.99600
NE_QUAD_CORNER_XY: 290462.57600 5327073.95300
SE_QUAD_CORNERY_XY: 290208.87200 5320128.17700
SW_QUAD_CORNER_XY: 285547.24900 5320300.26000
SECONDARY_NW_QUAD_XY: 285799.84900 5327027.22700
SECONDARY_NE_QUAD_XY: 290455.97300 5326855.17800
SECONDARY_SE_QUAD_XY: 290202.26900 5319909.41700
SECONDARY_SW_QUAD_XY: 285540.50000 5320081.50600
RMSE_XY: 2.60000
IMAGE_SOURCE: BLACK AND WHITE FILM
SOURCE_IMAGE_ID: NAPP 2634 039
SOURCE_IMAGE_DATE: 1991 8 3
SOURCE_DEM_DATE: 1994 11 14
AGENCY: WESTERN MAPPING CENTER (WMC)
PRODUCER: Science Applications International
PRODUCTION_SYSTEM: IIS/PRISM
COMPRESSION: UNDEFINED
STANDARD_VERSION: 1996 12
METADATA_DATE: 1997 6 19
DATA_FILE_SIZE: 43161712
BYTE_COUNT: 5588
