FILENAME: O4811357.NWS.47946.tif
QUADRANGLE_NAME: CRATER LAKE
QUADRANT: NW
WEST_LONGITUDE: -114 0 0.00000
EAST_LONGITUDE: -113 56 15.00000
NORTH_LATITUDE: 48 7 30.00000
SOUTH_LATITUDE: 48 3 45.00000
PRODUCTION_DATE: 1994 11 14
RASTER_ORDER: LEFT_RIGHT/TOP_BOTTOM
BAND_ORGANIZATION: SINGLE FILE
BAND_CONTENT: BLACK&WHITE
BAND_CONTENT: UNDEFINED
BAND_CONTENT: UNDEFINED
BITS_PER_PIXEL: 8
SAMPLES_AND_LINES: 5594 7731
HORIZONTAL_DATUM: NAD83
HORIZONTAL_COORDINATE_SYSTEM: UTM
COORDINATE_ZONE: 12
HORIZONTAL_UNITS: METERS
HORIZONTAL_RESOLUTION: 1.00000
SECONDARY_HORIZONTAL_DATUM: NAD27
XY_ORIGIN: 276123.00000 5334848.00000
SECONDARY_XY_ORIGIN: 276186.39100 5334631.29800
NATION: US
STATE: MT
NW_QUAD_CORNER_XY: 276765.63800 5334547.15100
NE_QUAD_CORNER_XY: 281415.90800 5334367.57700
SE_QUAD_CORNERY_XY: 281150.65000 5327421.82600
SW_QUAD_CORNER_XY: 276494.72800 5327601.44300
SECONDARY_NW_QUAD_XY: 276758.59400 5334328.38000
SECONDARY_NE_QUAD_XY: 281409.01000 5334148.80000
SECONDARY_SE_QUAD_XY: 281143.75300 5327203.06200
SECONDARY_SW_QUAD_XY: 276487.68400 5327382.68500
RMSE_XY: 1.30000
IMAGE_SOURCE: BLACK AND WHITE FILM
SOURCE_IMAGE_ID: NAPP 2631 036
SOURCE_IMAGE_DATE: 1991 7 20
SOURCE_DEM_DATE: 1994 11 14
AGENCY: WESTERN MAPPING CENTER (WMC)
PRODUCER: Science Applications International
PRODUCTION_SYSTEM: IIS/PRISM
COMPRESSION: UNDEFINED
STANDARD_VERSION: 1996 12
METADATA_DATE: 1997 6 19
DATA_FILE_SIZE: 43252808
BYTE_COUNT: 5594
