FILENAME: O4811356.NES.46722.tif
QUADRANGLE_NAME: MORNINGSTAR MOUNTAIN
QUADRANT: NE
WEST_LONGITUDE: -113 3 45.00000
EAST_LONGITUDE: -113 0 0.00000
NORTH_LATITUDE: 48 15 0.00000
SOUTH_LATITUDE: 48 11 15.00000
PRODUCTION_DATE: 1994 11 14
RASTER_ORDER: LEFT_RIGHT/TOP_BOTTOM
BAND_ORGANIZATION: SINGLE FILE
BAND_CONTENT: BLACK&WHITE
BAND_CONTENT: UNDEFINED
BAND_CONTENT: UNDEFINED
BITS_PER_PIXEL: 8
SAMPLES_AND_LINES: 5496 7675
HORIZONTAL_DATUM: NAD83
HORIZONTAL_COORDINATE_SYSTEM: UTM
COORDINATE_ZONE: 12
HORIZONTAL_UNITS: METERS
HORIZONTAL_RESOLUTION: 1.00000
SECONDARY_HORIZONTAL_DATUM: NAD27
XY_ORIGIN: 346340.00000 5346444.00000
SECONDARY_XY_ORIGIN: 346402.78000 5346227.47500
NATION: US
STATE: MT
NW_QUAD_CORNER_XY: 346895.27800 5346143.61500
NE_QUAD_CORNER_XY: 351534.60000 5346020.85700
SE_QUAD_CORNERY_XY: 351353.71400 5339074.44600
SW_QUAD_CORNER_XY: 346708.73500 5339197.23400
SECONDARY_NW_QUAD_XY: 346890.43500 5345924.74700
SECONDARY_NE_QUAD_XY: 351529.90400 5345801.98500
SECONDARY_SE_QUAD_XY: 351349.01800 5338855.58600
SECONDARY_SW_QUAD_XY: 346703.89200 5338978.37700
RMSE_XY: 2.20000
IMAGE_SOURCE: BLACK AND WHITE FILM
SOURCE_IMAGE_ID: NAPP 2609 002
SOURCE_IMAGE_DATE: 1990 8 7
SOURCE_DEM_DATE: 1994 11 14
AGENCY: WESTERN MAPPING CENTER (WMC)
PRODUCER: Science Applications International
PRODUCTION_SYSTEM: IIS/PRISM
COMPRESSION: UNDEFINED
STANDARD_VERSION: 1996 12
METADATA_DATE: 1997 7 3
DATA_FILE_SIZE: 42187296
BYTE_COUNT: 5496
