FILENAME: O4811356.NWS.46723.tif
QUADRANGLE_NAME: MORNINGSTAR MOUNTAIN
QUADRANT: NW
WEST_LONGITUDE: -113 7 30.00000
EAST_LONGITUDE: -113 3 45.00000
NORTH_LATITUDE: 48 15 0.00000
SOUTH_LATITUDE: 48 11 15.00000
PRODUCTION_DATE: 1995 4 28
RASTER_ORDER: LEFT_RIGHT/TOP_BOTTOM
BAND_ORGANIZATION: SINGLE FILE
BAND_CONTENT: BLACK&WHITE
BAND_CONTENT: UNDEFINED
BAND_CONTENT: UNDEFINED
BITS_PER_PIXEL: 8
SAMPLES_AND_LINES: 5503 7679
HORIZONTAL_DATUM: NAD83
HORIZONTAL_COORDINATE_SYSTEM: UTM
COORDINATE_ZONE: 12
HORIZONTAL_UNITS: METERS
HORIZONTAL_RESOLUTION: 1.00000
SECONDARY_HORIZONTAL_DATUM: NAD27
XY_ORIGIN: 341694.00000 5346571.00000
SECONDARY_XY_ORIGIN: 341756.95000 5346354.43000
NATION: US
STATE: MT
NW_QUAD_CORNER_XY: 342255.98000 5346270.15000
NE_QUAD_CORNER_XY: 346895.28000 5346143.61000
SE_QUAD_CORNERY_XY: 346708.74000 5339197.23000
SW_QUAD_CORNER_XY: 342063.78000 5339323.80000
SECONDARY_NW_QUAD_XY: 342250.99000 5346051.29000
SECONDARY_NE_QUAD_XY: 346890.44000 5345924.75000
SECONDARY_SE_QUAD_XY: 346703.89000 5338978.38000
SECONDARY_SW_QUAD_XY: 342058.79000 5339104.95000
RMSE_XY: 3.70000
IMAGE_SOURCE: BLACK AND WHITE FILM
SOURCE_IMAGE_ID: NAPP 2611 24
SOURCE_IMAGE_DATE: 1990 8 8
SOURCE_IMAGE_ID: NAPP 2611 2611
SOURCE_IMAGE_DATE: 1990 8 8
SOURCE_IMAGE_ID: NAPP 2611 25
SOURCE_IMAGE_DATE: 1990 8 8
SOURCE_DEM_DATE: 1995 4 28
AGENCY: WESTERN MAPPING CENTER (WMC)
PRODUCER: Science Applications International
PRODUCTION_SYSTEM: GIS/MAGIC
COMPRESSION: UNDEFINED
STANDARD_VERSION: 1996 12
METADATA_DATE: 1997 7 4
DATA_FILE_SIZE: 42263040
BYTE_COUNT: 5503
