FILENAME: O4811355.NES.46894.tif
QUADRANGLE_NAME: CRESCENT CLIFF
QUADRANT: NE
WEST_LONGITUDE: -113 11 15.00000
EAST_LONGITUDE: -113 7 30.00000
NORTH_LATITUDE: 48 15 0.00000
SOUTH_LATITUDE: 48 11 15.00000
PRODUCTION_DATE: 1994 11 14
RASTER_ORDER: LEFT_RIGHT/TOP_BOTTOM
BAND_ORGANIZATION: SINGLE FILE
BAND_CONTENT: BLACK&WHITE
BAND_CONTENT: UNDEFINED
BAND_CONTENT: UNDEFINED
BITS_PER_PIXEL: 8
SAMPLES_AND_LINES: 5508 7682
HORIZONTAL_DATUM: NAD83
HORIZONTAL_COORDINATE_SYSTEM: UTM
COORDINATE_ZONE: 12
HORIZONTAL_UNITS: METERS
HORIZONTAL_RESOLUTION: 1.00000
SECONDARY_HORIZONTAL_DATUM: NAD27
XY_ORIGIN: 337049.00000 5346701.00000
SECONDARY_XY_ORIGIN: 337112.11800 5346484.38200
NATION: US
STATE: MT
NW_QUAD_CORNER_XY: 337616.69600 5346400.47100
NE_QUAD_CORNER_XY: 342255.97700 5346270.15300
SE_QUAD_CORNERY_XY: 342063.77700 5339323.80300
SW_QUAD_CORNER_XY: 337418.83900 5339454.15300
SECONDARY_NW_QUAD_XY: 337611.55900 5346181.61100
SECONDARY_NE_QUAD_XY: 342250.98700 5346051.28900
SECONDARY_SE_QUAD_XY: 342058.78700 5339104.95000
SECONDARY_SW_QUAD_XY: 337413.70200 5339235.30500
RMSE_XY: 3.10000
IMAGE_SOURCE: BLACK AND WHITE FILM
SOURCE_IMAGE_ID: NAPP 2611 035
SOURCE_IMAGE_DATE: 1990 8 8
SOURCE_DEM_DATE: 1994 11 14
AGENCY: WESTERN MAPPING CENTER (WMC)
PRODUCER: Science Applications International
PRODUCTION_SYSTEM: IIS/PRISM
COMPRESSION: UNDEFINED
STANDARD_VERSION: 1996 12
METADATA_DATE: 1997 7 3
DATA_FILE_SIZE: 42317964
BYTE_COUNT: 5508
