FILENAME: O4811355.SES.46896.tif
QUADRANGLE_NAME: CRESCENT CLIFF
QUADRANT: SE
WEST_LONGITUDE: -113 11 15.00000
EAST_LONGITUDE: -113 7 30.00000
NORTH_LATITUDE: 48 11 15.00000
SOUTH_LATITUDE: 48 7 30.00000
PRODUCTION_DATE: 1994 11 14
RASTER_ORDER: LEFT_RIGHT/TOP_BOTTOM
BAND_ORGANIZATION: SINGLE FILE
BAND_CONTENT: BLACK&WHITE
BAND_CONTENT: UNDEFINED
BAND_CONTENT: UNDEFINED
BITS_PER_PIXEL: 8
SAMPLES_AND_LINES: 5513 7683
HORIZONTAL_DATUM: NAD83
HORIZONTAL_COORDINATE_SYSTEM: UTM
COORDINATE_ZONE: 12
HORIZONTAL_UNITS: METERS
HORIZONTAL_RESOLUTION: 1.00000
SECONDARY_HORIZONTAL_DATUM: NAD27
XY_ORIGIN: 336852.00000 5339755.00000
SECONDARY_XY_ORIGIN: 336915.00100 5339538.77700
NATION: US
STATE: MT
NW_QUAD_CORNER_XY: 337418.83900 5339454.15300
NE_QUAD_CORNER_XY: 342063.77700 5339323.80300
SE_QUAD_CORNERY_XY: 341871.76600 5332377.51800
SW_QUAD_CORNER_XY: 337221.17600 5332507.90000
SECONDARY_NW_QUAD_XY: 337413.70200 5339235.30500
SECONDARY_NE_QUAD_XY: 342058.78700 5339104.95000
SECONDARY_SE_QUAD_XY: 341866.77600 5332158.67900
SECONDARY_SW_QUAD_XY: 337216.04000 5332289.06400
RMSE_XY: 2.90000
IMAGE_SOURCE: BLACK AND WHITE FILM
SOURCE_IMAGE_ID: NAPP 2611 037
SOURCE_IMAGE_DATE: 1990 8 8
SOURCE_DEM_DATE: 1994 11 14
AGENCY: WESTERN MAPPING CENTER (WMC)
PRODUCER: Science Applications International
PRODUCTION_SYSTEM: IIS/PRISM
COMPRESSION: UNDEFINED
STANDARD_VERSION: 1996 12
METADATA_DATE: 1997 7 3
DATA_FILE_SIZE: 42361892
BYTE_COUNT: 5513
