FILENAME: O4811355.SWS.46897.tif
QUADRANGLE_NAME: CRESCENT CLIFF
QUADRANT: SW
WEST_LONGITUDE: -113 15 0.00000
EAST_LONGITUDE: -113 11 15.00000
NORTH_LATITUDE: 48 11 15.00000
SOUTH_LATITUDE: 48 7 30.00000
PRODUCTION_DATE: 1994 11 14
RASTER_ORDER: LEFT_RIGHT/TOP_BOTTOM
BAND_ORGANIZATION: SINGLE FILE
BAND_CONTENT: BLACK&WHITE
BAND_CONTENT: UNDEFINED
BAND_CONTENT: UNDEFINED
BITS_PER_PIXEL: 8
SAMPLES_AND_LINES: 5519 7687
HORIZONTAL_DATUM: NAD83
HORIZONTAL_COORDINATE_SYSTEM: UTM
COORDINATE_ZONE: 12
HORIZONTAL_UNITS: METERS
HORIZONTAL_RESOLUTION: 1.00000
SECONDARY_HORIZONTAL_DATUM: NAD27
XY_ORIGIN: 332201.00000 5339889.00000
SECONDARY_XY_ORIGIN: 332264.16300 5339672.73500
NATION: US
STATE: MT
NW_QUAD_CORNER_XY: 332773.92200 5339588.28400
NE_QUAD_CORNER_XY: 337418.83900 5339454.15300
SE_QUAD_CORNERY_XY: 337221.17600 5332507.90000
SW_QUAD_CORNER_XY: 332570.60700 5332642.06300
SECONDARY_NW_QUAD_XY: 332768.63900 5339369.44000
SECONDARY_NE_QUAD_XY: 337413.70200 5339235.30500
SECONDARY_SE_QUAD_XY: 337216.04000 5332289.06400
SECONDARY_SW_QUAD_XY: 332565.32400 5332423.23200
RMSE_XY: 3.60000
IMAGE_SOURCE: BLACK AND WHITE FILM
SOURCE_IMAGE_ID: NAPP 2615 038
SOURCE_IMAGE_DATE: 1990 9 3
SOURCE_DEM_DATE: 1994 11 14
AGENCY: WESTERN MAPPING CENTER (WMC)
PRODUCER: Science Applications International
PRODUCTION_SYSTEM: IIS/PRISM
COMPRESSION: UNDEFINED
STANDARD_VERSION: 1996 12
METADATA_DATE: 1997 7 3
DATA_FILE_SIZE: 42430072
BYTE_COUNT: 5519
