FILENAME: O4811354.NWS.47093.tif
QUADRANGLE_NAME: RED PLUME MOUNTAIN
QUADRANT: NW
WEST_LONGITUDE: -113 22 30.00000
EAST_LONGITUDE: -113 18 45.00000
NORTH_LATITUDE: 48 15 0.00000
SOUTH_LATITUDE: 48 11 15.00000
PRODUCTION_DATE: 1994 11 14
RASTER_ORDER: LEFT_RIGHT/TOP_BOTTOM
BAND_ORGANIZATION: SINGLE FILE
BAND_CONTENT: BLACK&WHITE
BAND_CONTENT: UNDEFINED
BAND_CONTENT: UNDEFINED
BITS_PER_PIXEL: 8
SAMPLES_AND_LINES: 5526 7694
HORIZONTAL_DATUM: NAD83
HORIZONTAL_COORDINATE_SYSTEM: UTM
COORDINATE_ZONE: 12
HORIZONTAL_UNITS: METERS
HORIZONTAL_RESOLUTION: 1.00000
SECONDARY_HORIZONTAL_DATUM: NAD27
XY_ORIGIN: 323114.00000 5347115.00000
SECONDARY_XY_ORIGIN: 323177.43500 5346898.27400
NATION: US
STATE: MT
NW_QUAD_CORNER_XY: 323698.98800 5346814.11000
NE_QUAD_CORNER_XY: 328338.20100 5346672.44900
SE_QUAD_CORNERY_XY: 328129.02700 5339726.19800
SW_QUAD_CORNER_XY: 323484.15500 5339867.89300
SECONDARY_NW_QUAD_XY: 323693.41100 5346595.26300
SECONDARY_NE_QUAD_XY: 328332.77100 5346453.59800
SECONDARY_SE_QUAD_XY: 328123.59700 5339507.35800
SECONDARY_SW_QUAD_XY: 323478.57900 5339649.05700
RMSE_XY: 4.50000
IMAGE_SOURCE: BLACK AND WHITE FILM
SOURCE_IMAGE_ID: NAPP 2635 029
SOURCE_IMAGE_DATE: 1991 8 4
SOURCE_DEM_DATE: 1994 11 14
AGENCY: WESTERN MAPPING CENTER (WMC)
PRODUCER: Science Applications International
PRODUCTION_SYSTEM: IIS/PRISM
COMPRESSION: UNDEFINED
STANDARD_VERSION: 1996 12
METADATA_DATE: 1997 7 3
DATA_FILE_SIZE: 42522570
BYTE_COUNT: 5526
