FILENAME: O4811354.SES.47094.tif
QUADRANGLE_NAME: RED PLUME MOUNTAIN
QUADRANT: SE
WEST_LONGITUDE: -113 18 45.00000
EAST_LONGITUDE: -113 15 0.00000
NORTH_LATITUDE: 48 11 15.00000
SOUTH_LATITUDE: 48 7 30.00000
PRODUCTION_DATE: 1994 11 14
RASTER_ORDER: LEFT_RIGHT/TOP_BOTTOM
BAND_ORGANIZATION: SINGLE FILE
BAND_CONTENT: BLACK&WHITE
BAND_CONTENT: UNDEFINED
BAND_CONTENT: UNDEFINED
BITS_PER_PIXEL: 8
SAMPLES_AND_LINES: 5525 7690
HORIZONTAL_DATUM: NAD83
HORIZONTAL_COORDINATE_SYSTEM: UTM
COORDINATE_ZONE: 12
HORIZONTAL_UNITS: METERS
HORIZONTAL_RESOLUTION: 1.00000
SECONDARY_HORIZONTAL_DATUM: NAD27
XY_ORIGIN: 327550.00000 5340027.00000
SECONDARY_XY_ORIGIN: 327613.23500 5339810.69300
NATION: US
STATE: MT
NW_QUAD_CORNER_XY: 328129.02700 5339726.19800
NE_QUAD_CORNER_XY: 332773.92200 5339588.28400
SE_QUAD_CORNERY_XY: 332570.60700 5332642.06300
SW_QUAD_CORNER_XY: 327920.06000 5332780.00900
SECONDARY_NW_QUAD_XY: 328123.59700 5339507.35800
SECONDARY_NE_QUAD_XY: 332768.63900 5339369.44000
SECONDARY_SE_QUAD_XY: 332565.32400 5332423.23200
SECONDARY_SW_QUAD_XY: 327914.63000 5332561.18200
RMSE_XY: 2.90000
IMAGE_SOURCE: BLACK AND WHITE FILM
SOURCE_IMAGE_ID: NAPP 2635 038
SOURCE_IMAGE_DATE: 1991 8 4
SOURCE_DEM_DATE: 1994 11 14
AGENCY: WESTERN MAPPING CENTER (WMC)
PRODUCER: Science Applications International
PRODUCTION_SYSTEM: IIS/PRISM
COMPRESSION: UNDEFINED
STANDARD_VERSION: 1996 12
METADATA_DATE: 1997 7 3
DATA_FILE_SIZE: 42492775
BYTE_COUNT: 5525
