FILENAME: O4811353.NES.47282.tif
QUADRANGLE_NAME: MOUNT BRADLEY
QUADRANT: NE
WEST_LONGITUDE: -113 26 15.00000
EAST_LONGITUDE: -113 22 30.00000
NORTH_LATITUDE: 48 15 0.00000
SOUTH_LATITUDE: 48 11 15.00000
PRODUCTION_DATE: 1994 11 14
RASTER_ORDER: LEFT_RIGHT/TOP_BOTTOM
BAND_ORGANIZATION: SINGLE FILE
BAND_CONTENT: BLACK&WHITE
BAND_CONTENT: UNDEFINED
BAND_CONTENT: UNDEFINED
BITS_PER_PIXEL: 8
SAMPLES_AND_LINES: 5531 7697
HORIZONTAL_DATUM: NAD83
HORIZONTAL_COORDINATE_SYSTEM: UTM
COORDINATE_ZONE: 12
HORIZONTAL_UNITS: METERS
HORIZONTAL_RESOLUTION: 1.00000
SECONDARY_HORIZONTAL_DATUM: NAD27
XY_ORIGIN: 318469.00000 5347260.00000
SECONDARY_XY_ORIGIN: 318532.51200 5347043.24500
NATION: US
STATE: MT
NW_QUAD_CORNER_XY: 319059.79800 5346959.55200
NE_QUAD_CORNER_XY: 323698.98800 5346814.11000
SE_QUAD_CORNERY_XY: 323484.15500 5339867.89300
SW_QUAD_CORNER_XY: 318839.30700 5340013.37000
SECONDARY_NW_QUAD_XY: 319054.07400 5346740.70900
SECONDARY_NE_QUAD_XY: 323693.41100 5346595.26300
SECONDARY_SE_QUAD_XY: 323478.57900 5339649.05700
SECONDARY_SW_QUAD_XY: 318833.58300 5339794.53900
RMSE_XY: 3.80000
IMAGE_SOURCE: BLACK AND WHITE FILM
SOURCE_IMAGE_ID: NAPP 2634 102
SOURCE_IMAGE_DATE: 1991 8 3
SOURCE_DEM_DATE: 1994 11 14
AGENCY: WESTERN MAPPING CENTER (WMC)
PRODUCER: Science Applications International
PRODUCTION_SYSTEM: IIS/PRISM
COMPRESSION: UNDEFINED
STANDARD_VERSION: 1996 12
METADATA_DATE: 1997 7 3
DATA_FILE_SIZE: 42577638
BYTE_COUNT: 5531
