FILENAME: O4811353.SWS.47285.tif
QUADRANGLE_NAME: MOUNT BRADLEY
QUADRANT: SW
WEST_LONGITUDE: -113 30 0.00000
EAST_LONGITUDE: -113 26 15.00000
NORTH_LATITUDE: 48 11 15.00000
SOUTH_LATITUDE: 48 7 30.00000
PRODUCTION_DATE: 1995 4 28
RASTER_ORDER: LEFT_RIGHT/TOP_BOTTOM
BAND_ORGANIZATION: SINGLE FILE
BAND_CONTENT: BLACK&WHITE
BAND_CONTENT: UNDEFINED
BAND_CONTENT: UNDEFINED
BITS_PER_PIXEL: 8
SAMPLES_AND_LINES: 5543 7701
HORIZONTAL_DATUM: NAD83
HORIZONTAL_COORDINATE_SYSTEM: UTM
COORDINATE_ZONE: 12
HORIZONTAL_UNITS: METERS
HORIZONTAL_RESOLUTION: 1.00000
SECONDARY_HORIZONTAL_DATUM: NAD27
XY_ORIGIN: 313598.00000 5340463.00000
SECONDARY_XY_ORIGIN: 313661.47000 5340246.58000
NATION: US
STATE: MT
NW_QUAD_CORNER_XY: 314194.48000 5340162.63000
NE_QUAD_CORNER_XY: 318839.31000 5340013.37000
SE_QUAD_CORNERY_XY: 318619.03000 5333067.25000
SW_QUAD_CORNER_XY: 313968.55000 5333216.55000
SECONDARY_NW_QUAD_XY: 314188.61000 5339943.80000
SECONDARY_NE_QUAD_XY: 318833.58000 5339794.54000
SECONDARY_SE_QUAD_XY: 318613.31000 5332848.43000
SECONDARY_SW_QUAD_XY: 313962.68000 5332997.73000
RMSE_XY: 8.10000
IMAGE_SOURCE: BLACK AND WHITE FILM
SOURCE_IMAGE_ID: NAPP 2617 191
SOURCE_IMAGE_DATE: 1990 9 7
SOURCE_IMAGE_ID: NAPP 2617 2617
SOURCE_IMAGE_DATE: 1990 9 7
SOURCE_IMAGE_ID: NAPP 2617 192
SOURCE_IMAGE_DATE: 1990 9 7
SOURCE_DEM_DATE: 1995 4 28
AGENCY: WESTERN MAPPING CENTER (WMC)
PRODUCER: Science Applications International
PRODUCTION_SYSTEM: GIS/MAGIC
COMPRESSION: UNDEFINED
STANDARD_VERSION: 1996 12
METADATA_DATE: 1997 7 4
DATA_FILE_SIZE: 42692186
BYTE_COUNT: 5543
