FILENAME: O4811352.NES.47463.tif
QUADRANGLE_NAME: NIMROD
QUADRANT: NE
WEST_LONGITUDE: -113 33 45.00000
EAST_LONGITUDE: -113 30 0.00000
NORTH_LATITUDE: 48 15 0.00000
SOUTH_LATITUDE: 48 11 15.00000
PRODUCTION_DATE: 1994 11 14
RASTER_ORDER: LEFT_RIGHT/TOP_BOTTOM
BAND_ORGANIZATION: SINGLE FILE
BAND_CONTENT: BLACK&WHITE
BAND_CONTENT: UNDEFINED
BAND_CONTENT: UNDEFINED
BITS_PER_PIXEL: 8
SAMPLES_AND_LINES: 5543 7704
HORIZONTAL_DATUM: NAD83
HORIZONTAL_COORDINATE_SYSTEM: UTM
COORDINATE_ZONE: 12
HORIZONTAL_UNITS: METERS
HORIZONTAL_RESOLUTION: 1.00000
SECONDARY_HORIZONTAL_DATUM: NAD27
XY_ORIGIN: 309179.00000 5347562.00000
SECONDARY_XY_ORIGIN: 309242.53700 5347345.12200
NATION: US
STATE: MT
NW_QUAD_CORNER_XY: 309781.49300 5347261.78000
NE_QUAD_CORNER_XY: 314420.63300 5347108.77500
SE_QUAD_CORNERY_XY: 314194.48200 5340162.63000
SW_QUAD_CORNER_XY: 309549.68100 5340315.67200
SECONDARY_NW_QUAD_XY: 309775.47500 5347042.94700
SECONDARY_NE_QUAD_XY: 314414.76200 5346889.93700
SECONDARY_SE_QUAD_XY: 314188.61100 5339943.80400
SECONDARY_SW_QUAD_XY: 309543.66400 5340096.85100
RMSE_XY: 2.00000
IMAGE_SOURCE: BLACK AND WHITE FILM
SOURCE_IMAGE_ID: NAPP 2617 138
SOURCE_IMAGE_DATE: 1990 9 7
SOURCE_DEM_DATE: 1994 11 14
AGENCY: WESTERN MAPPING CENTER (WMC)
PRODUCER: Science Applications International
PRODUCTION_SYSTEM: GIS/MAGIC
COMPRESSION: UNDEFINED
STANDARD_VERSION: 1996 12
METADATA_DATE: 1997 7 4
DATA_FILE_SIZE: 42708815
BYTE_COUNT: 5543
