FILENAME: O4811352.SES.47465.tif
QUADRANGLE_NAME: NIMROD
QUADRANT: SE
WEST_LONGITUDE: -113 33 45.00000
EAST_LONGITUDE: -113 30 0.00000
NORTH_LATITUDE: 48 11 15.00000
SOUTH_LATITUDE: 48 7 30.00000
PRODUCTION_DATE: 1994 11 14
RASTER_ORDER: LEFT_RIGHT/TOP_BOTTOM
BAND_ORGANIZATION: SINGLE FILE
BAND_CONTENT: BLACK&WHITE
BAND_CONTENT: UNDEFINED
BAND_CONTENT: UNDEFINED
BITS_PER_PIXEL: 8
SAMPLES_AND_LINES: 5549 7705
HORIZONTAL_DATUM: NAD83
HORIZONTAL_COORDINATE_SYSTEM: UTM
COORDINATE_ZONE: 12
HORIZONTAL_UNITS: METERS
HORIZONTAL_RESOLUTION: 1.00000
SECONDARY_HORIZONTAL_DATUM: NAD27
XY_ORIGIN: 308947.00000 5340616.00000
SECONDARY_XY_ORIGIN: 309010.41300 5340399.48000
NATION: US
STATE: MT
NW_QUAD_CORNER_XY: 309549.68100 5340315.67200
NE_QUAD_CORNER_XY: 314194.48200 5340162.63000
SE_QUAD_CORNERY_XY: 313968.55300 5333216.54600
SW_QUAD_CORNER_XY: 309318.09800 5333369.62500
SECONDARY_NW_QUAD_XY: 309543.66400 5340096.85100
SECONDARY_NE_QUAD_XY: 314188.61100 5339943.80400
SECONDARY_SE_QUAD_XY: 313962.68300 5332997.73300
SECONDARY_SW_QUAD_XY: 309312.08100 5333150.81700
RMSE_XY: 1.90000
IMAGE_SOURCE: BLACK AND WHITE FILM
SOURCE_IMAGE_ID: NAPP 2617 140
SOURCE_IMAGE_DATE: 1990 9 7
SOURCE_DEM_DATE: 1994 11 14
AGENCY: WESTERN MAPPING CENTER (WMC)
PRODUCER: Science Applications International
PRODUCTION_SYSTEM: IIS/PRISM
COMPRESSION: UNDEFINED
STANDARD_VERSION: 1996 12
METADATA_DATE: 1997 7 4
DATA_FILE_SIZE: 42760594
BYTE_COUNT: 5549
