FILENAME: O4811351.NWS.47644.tif
QUADRANGLE_NAME: FELIX PEAK
QUADRANT: NW
WEST_LONGITUDE: -113 45 0.00000
EAST_LONGITUDE: -113 41 15.00000
NORTH_LATITUDE: 48 15 0.00000
SOUTH_LATITUDE: 48 11 15.00000
PRODUCTION_DATE: 1994 11 14
RASTER_ORDER: LEFT_RIGHT/TOP_BOTTOM
BAND_ORGANIZATION: SINGLE FILE
BAND_CONTENT: BLACK&WHITE
BAND_CONTENT: UNDEFINED
BAND_CONTENT: UNDEFINED
BITS_PER_PIXEL: 8
SAMPLES_AND_LINES: 5561 7716
HORIZONTAL_DATUM: NAD83
HORIZONTAL_COORDINATE_SYSTEM: UTM
COORDINATE_ZONE: 12
HORIZONTAL_UNITS: METERS
HORIZONTAL_RESOLUTION: 1.00000
SECONDARY_HORIZONTAL_DATUM: NAD27
XY_ORIGIN: 295244.00000 5348044.00000
SECONDARY_XY_ORIGIN: 295307.42400 5347826.85700
NATION: US
STATE: MT
NW_QUAD_CORNER_XY: 295864.22700 5347743.49000
NE_QUAD_CORNER_XY: 300503.28900 5347579.13700
SE_QUAD_CORNERY_XY: 300260.15600 5340633.10700
SW_QUAD_CORNER_XY: 295615.43300 5340797.50000
SECONDARY_NW_QUAD_XY: 295857.76900 5347524.67200
SECONDARY_NE_QUAD_XY: 300496.97800 5347360.31400
SECONDARY_SE_QUAD_XY: 300253.84600 5340414.29600
SECONDARY_SW_QUAD_XY: 295608.97600 5340578.69400
RMSE_XY: 1.40000
IMAGE_SOURCE: BLACK AND WHITE FILM
SOURCE_IMAGE_ID: NAPP 2617 040
SOURCE_IMAGE_DATE: 1990 9 7
SOURCE_DEM_DATE: 1994 11 14
AGENCY: WESTERN MAPPING CENTER (WMC)
PRODUCER: Science Applications International
PRODUCTION_SYSTEM: IIS/PRISM
COMPRESSION: UNDEFINED
STANDARD_VERSION: 1996 12
METADATA_DATE: 1997 7 4
DATA_FILE_SIZE: 42914237
BYTE_COUNT: 5561
