FILENAME: O4811350.SWS.47805.tif
QUADRANGLE_NAME: PIONEER RIDGE
QUADRANT: SW
WEST_LONGITUDE: -113 52 30.00000
EAST_LONGITUDE: -113 48 45.00000
NORTH_LATITUDE: 48 11 15.00000
SOUTH_LATITUDE: 48 7 30.00000
PRODUCTION_DATE: 1994 11 14
RASTER_ORDER: LEFT_RIGHT/TOP_BOTTOM
BAND_ORGANIZATION: SINGLE FILE
BAND_CONTENT: BLACK&WHITE
BAND_CONTENT: UNDEFINED
BAND_CONTENT: UNDEFINED
BITS_PER_PIXEL: 8
SAMPLES_AND_LINES: 5577 7723
HORIZONTAL_DATUM: NAD83
HORIZONTAL_COORDINATE_SYSTEM: UTM
COORDINATE_ZONE: 12
HORIZONTAL_UNITS: METERS
HORIZONTAL_RESOLUTION: 1.00000
SECONDARY_HORIZONTAL_DATUM: NAD27
XY_ORIGIN: 285695.00000 5341438.00000
SECONDARY_XY_ORIGIN: 285758.36500 5341221.07900
NATION: US
STATE: MT
NW_QUAD_CORNER_XY: 286326.06800 5341137.63800
NE_QUAD_CORNER_XY: 290970.73700 5340965.67700
SE_QUAD_CORNERY_XY: 290716.53100 5334019.78600
SW_QUAD_CORNER_XY: 286066.20600 5334191.78900
SECONDARY_NW_QUAD_XY: 286319.31700 5340918.84300
SECONDARY_NE_QUAD_XY: 290964.13200 5340746.87600
SECONDARY_SE_QUAD_XY: 290709.92700 5333800.99800
SECONDARY_SW_QUAD_XY: 286059.45500 5333973.00600
RMSE_XY: 2.60000
IMAGE_SOURCE: BLACK AND WHITE FILM
SOURCE_IMAGE_ID: NAPP 2634 043
SOURCE_IMAGE_DATE: 1991 8 3
SOURCE_DEM_DATE: 1994 11 14
AGENCY: WESTERN MAPPING CENTER (WMC)
PRODUCER: Science Applications International
PRODUCTION_SYSTEM: IIS/PRISM
COMPRESSION: UNDEFINED
STANDARD_VERSION: 1996 12
METADATA_DATE: 1997 6 19
DATA_FILE_SIZE: 43076748
BYTE_COUNT: 5577
