FILENAME: O4811349.NWS.47942.tif
QUADRANGLE_NAME: JEWEL BASIN
QUADRANT: NW
WEST_LONGITUDE: -114 0 0.00000
EAST_LONGITUDE: -113 56 15.00000
NORTH_LATITUDE: 48 15 0.00000
SOUTH_LATITUDE: 48 11 15.00000
PRODUCTION_DATE: 1994 11 14
RASTER_ORDER: LEFT_RIGHT/TOP_BOTTOM
BAND_ORGANIZATION: SINGLE FILE
BAND_CONTENT: BLACK&WHITE
BAND_CONTENT: UNDEFINED
BAND_CONTENT: UNDEFINED
BITS_PER_PIXEL: 8
SAMPLES_AND_LINES: 5584 7730
HORIZONTAL_DATUM: NAD83
HORIZONTAL_COORDINATE_SYSTEM: UTM
COORDINATE_ZONE: 12
HORIZONTAL_UNITS: METERS
HORIZONTAL_RESOLUTION: 1.00000
SECONDARY_HORIZONTAL_DATUM: NAD27
XY_ORIGIN: 276665.00000 5348739.00000
SECONDARY_XY_ORIGIN: 276728.45000 5348521.60000
NATION: US
STATE: MT
NW_QUAD_CORNER_XY: 277308.26000 5348438.73000
NE_QUAD_CORNER_XY: 281947.21000 5348259.25000
SE_QUAD_CORNERY_XY: 281681.43000 5341313.38000
SW_QUAD_CORNER_XY: 277036.82000 5341492.92000
SECONDARY_NW_QUAD_XY: 277301.22000 5348219.94000
SECONDARY_NE_QUAD_XY: 281940.31000 5348040.45000
SECONDARY_SE_QUAD_XY: 281674.53000 5341094.59000
SECONDARY_SW_QUAD_XY: 277029.77000 5341274.13000
RMSE_XY: 4.00000
IMAGE_SOURCE: BLACK AND WHITE FILM
SOURCE_IMAGE_ID: NAPP 2634 81
SOURCE_IMAGE_DATE: 1991 8 3
SOURCE_IMAGE_ID: NAPP 2634 2634
SOURCE_IMAGE_DATE: 1991 8 3
SOURCE_IMAGE_ID: NAPP 2634 80
SOURCE_IMAGE_DATE: 1991 8 3
SOURCE_IMAGE_ID: NAPP 2634 2634
SOURCE_IMAGE_DATE: 1991 8 3
SOURCE_IMAGE_ID: NAPP 2634 82
SOURCE_IMAGE_DATE: 1991 8 3
SOURCE_DEM_DATE: 1994 11 14
AGENCY: WESTERN MAPPING CENTER (WMC)
PRODUCER: Science Applications International
PRODUCTION_SYSTEM: IIS/PRISM
COMPRESSION: UNDEFINED
STANDARD_VERSION: 1996 12
METADATA_DATE: 1997 7 4
DATA_FILE_SIZE: 43169904
BYTE_COUNT: 5584
