FILENAME: O4811349.SES.47943.tif
QUADRANGLE_NAME: JEWEL BASIN
QUADRANT: SE
WEST_LONGITUDE: -113 56 15.00000
EAST_LONGITUDE: -113 52 30.00000
NORTH_LATITUDE: 48 11 15.00000
SOUTH_LATITUDE: 48 7 30.00000
PRODUCTION_DATE: 1994 11 14
RASTER_ORDER: LEFT_RIGHT/TOP_BOTTOM
BAND_ORGANIZATION: SINGLE FILE
BAND_CONTENT: BLACK&WHITE
BAND_CONTENT: UNDEFINED
BAND_CONTENT: UNDEFINED
BITS_PER_PIXEL: 8
SAMPLES_AND_LINES: 5584 7727
HORIZONTAL_DATUM: NAD83
HORIZONTAL_COORDINATE_SYSTEM: UTM
COORDINATE_ZONE: 12
HORIZONTAL_UNITS: METERS
HORIZONTAL_RESOLUTION: 1.00000
SECONDARY_HORIZONTAL_DATUM: NAD27
XY_ORIGIN: 281044.00000 5341614.00000
SECONDARY_XY_ORIGIN: 281107.39400 5341397.01400
NATION: US
STATE: MT
NW_QUAD_CORNER_XY: 281681.42800 5341313.38400
NE_QUAD_CORNER_XY: 286326.06800 5341137.63800
SE_QUAD_CORNERY_XY: 286066.20600 5334191.78900
SW_QUAD_CORNER_XY: 281415.90800 5334367.57700
SECONDARY_NW_QUAD_XY: 281674.53000 5341094.59500
SECONDARY_NE_QUAD_XY: 286319.31700 5340918.84300
SECONDARY_SE_QUAD_XY: 286059.45500 5333973.00600
SECONDARY_SW_QUAD_XY: 281409.01000 5334148.80000
RMSE_XY: 2.80000
IMAGE_SOURCE: BLACK AND WHITE FILM
SOURCE_IMAGE_ID: NAPP 2634 076
SOURCE_IMAGE_DATE: 1991 8 3
SOURCE_DEM_DATE: 1994 11 14
AGENCY: WESTERN MAPPING CENTER (WMC)
PRODUCER: Science Applications International
PRODUCTION_SYSTEM: IIS/PRISM
COMPRESSION: UNDEFINED
STANDARD_VERSION: 1996 12
METADATA_DATE: 1997 6 19
DATA_FILE_SIZE: 43153152
BYTE_COUNT: 5584
