FILENAME: O4811348.NES.46718.tif
QUADRANGLE_NAME: HALF DOME CRAG
QUADRANT: NE
WEST_LONGITUDE: -113 3 45.00000
EAST_LONGITUDE: -113 0 0.00000
NORTH_LATITUDE: 48 22 30.00000
SOUTH_LATITUDE: 48 18 45.00000
PRODUCTION_DATE: 1994 12 22
RASTER_ORDER: LEFT_RIGHT/TOP_BOTTOM
BAND_ORGANIZATION: SINGLE FILE
BAND_CONTENT: BLACK&WHITE
BAND_CONTENT: UNDEFINED
BAND_CONTENT: UNDEFINED
BITS_PER_PIXEL: 8
SAMPLES_AND_LINES: 5485 7674
HORIZONTAL_DATUM: NAD83
HORIZONTAL_COORDINATE_SYSTEM: UTM
COORDINATE_ZONE: 12
HORIZONTAL_UNITS: METERS
HORIZONTAL_RESOLUTION: 1.00000
SECONDARY_HORIZONTAL_DATUM: NAD27
XY_ORIGIN: 346713.00000 5360337.00000
SECONDARY_XY_ORIGIN: 346775.95500 5360119.97800
NATION: US
STATE: MT
NW_QUAD_CORNER_XY: 347268.91500 5360036.57500
NE_QUAD_CORNER_XY: 351896.90700 5359913.87800
SE_QUAD_CORNERY_XY: 351715.66500 5352967.33400
SW_QUAD_CORNER_XY: 347082.00500 5353090.06200
SECONDARY_NW_QUAD_XY: 347264.07100 5359817.68600
SECONDARY_NE_QUAD_XY: 351892.21000 5359694.98500
SECONDARY_SE_QUAD_XY: 351710.96800 5352748.45100
SECONDARY_SW_QUAD_XY: 347077.16100 5352871.18300
RMSE_XY: 1.90000
IMAGE_SOURCE: BLACK AND WHITE FILM
SOURCE_IMAGE_ID: PAPP 7607 323
SOURCE_IMAGE_DATE: 1990 7 12
SOURCE_DEM_DATE: 1994 12 22
AGENCY: WESTERN MAPPING CENTER (WMC)
PRODUCER: Science Applications International
PRODUCTION_SYSTEM: GIS/MAGIC
COMPRESSION: UNDEFINED
STANDARD_VERSION: 1996 12
METADATA_DATE: 1997 5 20
DATA_FILE_SIZE: 42097375
BYTE_COUNT: 5485
