FILENAME: O4811348.NWS.46719.tif
QUADRANGLE_NAME: HALF DOME CRAG
QUADRANT: NW
WEST_LONGITUDE: -113 7 30.00000
EAST_LONGITUDE: -113 3 45.00000
NORTH_LATITUDE: 48 22 30.00000
SOUTH_LATITUDE: 48 18 45.00000
PRODUCTION_DATE: 1995 4 27
RASTER_ORDER: LEFT_RIGHT/TOP_BOTTOM
BAND_ORGANIZATION: SINGLE FILE
BAND_CONTENT: BLACK&WHITE
BAND_CONTENT: UNDEFINED
BAND_CONTENT: UNDEFINED
BITS_PER_PIXEL: 8
SAMPLES_AND_LINES: 5491 7679
HORIZONTAL_DATUM: NAD83
HORIZONTAL_COORDINATE_SYSTEM: UTM
COORDINATE_ZONE: 12
HORIZONTAL_UNITS: METERS
HORIZONTAL_RESOLUTION: 1.00000
SECONDARY_HORIZONTAL_DATUM: NAD27
XY_ORIGIN: 342079.00000 5360464.00000
SECONDARY_XY_ORIGIN: 342142.10000 5360246.96000
NATION: US
STATE: MT
NW_QUAD_CORNER_XY: 342640.94000 5360163.05000
NE_QUAD_CORNER_XY: 347268.91000 5360036.57000
SE_QUAD_CORNERY_XY: 347082.00000 5353090.06000
SW_QUAD_CORNER_XY: 342448.37000 5353216.57000
SECONDARY_NW_QUAD_XY: 342635.95000 5359944.16000
SECONDARY_NE_QUAD_XY: 347264.07000 5359817.68000
SECONDARY_SE_QUAD_XY: 347077.16000 5352871.18000
SECONDARY_SW_QUAD_XY: 342443.38000 5352997.69000
RMSE_XY: 1.60000
IMAGE_SOURCE: BLACK AND WHITE FILM
SOURCE_IMAGE_ID: NAPP 1611 88
SOURCE_IMAGE_DATE: 1990 8 8
SOURCE_IMAGE_ID: NAPP 1611 1611
SOURCE_IMAGE_DATE: 1990 8 8
SOURCE_IMAGE_ID: NAPP 1611 99
SOURCE_IMAGE_DATE: 1990 8 8
SOURCE_DEM_DATE: 1995 4 27
AGENCY: WESTERN MAPPING CENTER (WMC)
PRODUCER: Science Applications International
PRODUCTION_SYSTEM: GIS/MAGIC
COMPRESSION: UNDEFINED
STANDARD_VERSION: 1996 12
METADATA_DATE: 1997 5 20
DATA_FILE_SIZE: 42170880
BYTE_COUNT: 5491
