FILENAME: O4811348.SES.46720.tif
QUADRANGLE_NAME: HALF DOME CRAG
QUADRANT: SE
WEST_LONGITUDE: -113 3 45.00000
EAST_LONGITUDE: -113 0 0.00000
NORTH_LATITUDE: 48 18 45.00000
SOUTH_LATITUDE: 48 15 0.00000
PRODUCTION_DATE: 1995 4 27
RASTER_ORDER: LEFT_RIGHT/TOP_BOTTOM
BAND_ORGANIZATION: SINGLE FILE
BAND_CONTENT: BLACK&WHITE
BAND_CONTENT: UNDEFINED
BAND_CONTENT: UNDEFINED
BITS_PER_PIXEL: 8
SAMPLES_AND_LINES: 5491 7675
HORIZONTAL_DATUM: NAD83
HORIZONTAL_COORDINATE_SYSTEM: UTM
COORDINATE_ZONE: 12
HORIZONTAL_UNITS: METERS
HORIZONTAL_RESOLUTION: 1.00000
SECONDARY_HORIZONTAL_DATUM: NAD27
XY_ORIGIN: 346526.00000 5353391.00000
SECONDARY_XY_ORIGIN: 346588.87000 5353174.23000
NATION: US
STATE: MT
NW_QUAD_CORNER_XY: 347082.00000 5353090.06000
NE_QUAD_CORNER_XY: 351715.66000 5352967.33000
SE_QUAD_CORNERY_XY: 351534.60000 5346020.86000
SW_QUAD_CORNER_XY: 346895.28000 5346143.61000
SECONDARY_NW_QUAD_XY: 347077.16000 5352871.18000
SECONDARY_NE_QUAD_XY: 351710.97000 5352748.45000
SECONDARY_SE_QUAD_XY: 351529.90000 5345801.98000
SECONDARY_SW_QUAD_XY: 346890.44000 5345924.75000
RMSE_XY: 3.20000
IMAGE_SOURCE: BLACK AND WHITE FILM
SOURCE_IMAGE_ID: NAPP 7607 55
SOURCE_IMAGE_DATE: 1990 7 12
SOURCE_IMAGE_ID: NAPP 7607 7607
SOURCE_IMAGE_DATE: 1990 7 12
SOURCE_IMAGE_ID: NAPP 7607 66
SOURCE_IMAGE_DATE: 1990 7 12
SOURCE_DEM_DATE: 1995 4 27
AGENCY: WESTERN MAPPING CENTER (WMC)
PRODUCER: Science Applications International
PRODUCTION_SYSTEM: GIS/MAGIC
COMPRESSION: UNDEFINED
STANDARD_VERSION: 1996 12
METADATA_DATE: 1997 5 20
DATA_FILE_SIZE: 42148916
BYTE_COUNT: 5491
