FILENAME: O4811346.SES.47090.tif
QUADRANGLE_NAME: SUMMIT
QUADRANT: SE
WEST_LONGITUDE: -113 18 45.00000
EAST_LONGITUDE: -113 15 0.00000
NORTH_LATITUDE: 48 18 45.00000
SOUTH_LATITUDE: 48 15 0.00000
PRODUCTION_DATE: 1994 11 18
RASTER_ORDER: LEFT_RIGHT/TOP_BOTTOM
BAND_ORGANIZATION: SINGLE FILE
BAND_CONTENT: BLACK&WHITE
BAND_CONTENT: UNDEFINED
BAND_CONTENT: UNDEFINED
BITS_PER_PIXEL: 8
SAMPLES_AND_LINES: 5515 7689
HORIZONTAL_DATUM: NAD83
HORIZONTAL_COORDINATE_SYSTEM: UTM
COORDINATE_ZONE: 12
HORIZONTAL_UNITS: METERS
HORIZONTAL_RESOLUTION: 1.00000
SECONDARY_HORIZONTAL_DATUM: NAD27
XY_ORIGIN: 327968.00000 5353919.00000
SECONDARY_XY_ORIGIN: 328031.38500 5353702.10900
NATION: US
STATE: MT
NW_QUAD_CORNER_XY: 328547.58100 5353618.76500
NE_QUAD_CORNER_XY: 333181.15300 5353480.92000
SE_QUAD_CORNERY_XY: 332977.43800 5346534.57000
SW_QUAD_CORNER_XY: 328338.20100 5346672.44900
SECONDARY_NW_QUAD_XY: 328542.15000 5353399.90200
SECONDARY_NE_QUAD_XY: 333175.86900 5353262.05300
SECONDARY_SE_QUAD_XY: 332972.15400 5346315.71400
SECONDARY_SW_QUAD_XY: 328332.77100 5346453.59800
RMSE_XY: 2.50000
IMAGE_SOURCE: BLACK AND WHITE FILM
SOURCE_IMAGE_ID: PAPP 5635 434
SOURCE_IMAGE_DATE: 1991 8 4
SOURCE_DEM_DATE: 1994 11 18
AGENCY: WESTERN MAPPING CENTER (WMC)
PRODUCER: Science Applications International
PRODUCTION_SYSTEM: GIS/MAGIC
COMPRESSION: UNDEFINED
STANDARD_VERSION: 1996 12
METADATA_DATE: 1997 5 20
DATA_FILE_SIZE: 42410350
BYTE_COUNT: 5515
