FILENAME: O4811346.SWS.47091.tif
QUADRANGLE_NAME: SUMMIT
QUADRANT: SW
WEST_LONGITUDE: -113 22 30.00000
EAST_LONGITUDE: -113 18 45.00000
NORTH_LATITUDE: 48 18 45.00000
SOUTH_LATITUDE: 48 15 0.00000
PRODUCTION_DATE: 1995 4 27
RASTER_ORDER: LEFT_RIGHT/TOP_BOTTOM
BAND_ORGANIZATION: SINGLE FILE
BAND_CONTENT: BLACK&WHITE
BAND_CONTENT: UNDEFINED
BAND_CONTENT: UNDEFINED
BITS_PER_PIXEL: 8
SAMPLES_AND_LINES: 5521 7693
HORIZONTAL_DATUM: NAD83
HORIZONTAL_COORDINATE_SYSTEM: UTM
COORDINATE_ZONE: 12
HORIZONTAL_UNITS: METERS
HORIZONTAL_RESOLUTION: 1.00000
SECONDARY_HORIZONTAL_DATUM: NAD27
XY_ORIGIN: 323328.00000 5354061.00000
SECONDARY_XY_ORIGIN: 323391.44000 5353844.09000
NATION: US
STATE: MT
NW_QUAD_CORNER_XY: 323914.03000 5353760.39000
NE_QUAD_CORNER_XY: 328547.58000 5353618.76000
SE_QUAD_CORNERY_XY: 328338.20000 5346672.45000
SW_QUAD_CORNER_XY: 323698.99000 5346814.11000
SECONDARY_NW_QUAD_XY: 323908.45000 5353541.53000
SECONDARY_NE_QUAD_XY: 328542.15000 5353399.90000
SECONDARY_SE_QUAD_XY: 328332.77000 5346453.60000
SECONDARY_SW_QUAD_XY: 323693.41000 5346595.26000
RMSE_XY: 2.90000
IMAGE_SOURCE: BLACK AND WHITE FILM
SOURCE_IMAGE_ID: NAPP 4614 11
SOURCE_IMAGE_DATE: 1991 8 22
SOURCE_IMAGE_ID: NAPP 4614 4614
SOURCE_IMAGE_DATE: 1991 8 22
SOURCE_IMAGE_ID: NAPP 4614 00
SOURCE_IMAGE_DATE: 1991 8 22
SOURCE_DEM_DATE: 1995 4 27
AGENCY: WESTERN MAPPING CENTER (WMC)
PRODUCER: Science Applications International
PRODUCTION_SYSTEM: GIS/MAGIC
COMPRESSION: UNDEFINED
STANDARD_VERSION: 1996 12
METADATA_DATE: 1997 5 20
DATA_FILE_SIZE: 42478574
BYTE_COUNT: 5521
