FILENAME: O4811345.SES.47280.tif
QUADRANGLE_NAME: BLACKTAIL
QUADRANT: SE
WEST_LONGITUDE: -113 26 15.00000
EAST_LONGITUDE: -113 22 30.00000
NORTH_LATITUDE: 48 18 45.00000
SOUTH_LATITUDE: 48 15 0.00000
PRODUCTION_DATE: 1994 11 4
RASTER_ORDER: LEFT_RIGHT/TOP_BOTTOM
BAND_ORGANIZATION: SINGLE FILE
BAND_CONTENT: BLACK&WHITE
BAND_CONTENT: UNDEFINED
BAND_CONTENT: UNDEFINED
BITS_PER_PIXEL: 8
SAMPLES_AND_LINES: 5527 7697
HORIZONTAL_DATUM: NAD83
HORIZONTAL_COORDINATE_SYSTEM: UTM
COORDINATE_ZONE: 12
HORIZONTAL_UNITS: METERS
HORIZONTAL_RESOLUTION: 1.00000
SECONDARY_HORIZONTAL_DATUM: NAD27
XY_ORIGIN: 318689.00000 5354206.00000
SECONDARY_XY_ORIGIN: 318752.50200 5353989.07300
NATION: US
STATE: MT
NW_QUAD_CORNER_XY: 319280.50700 5353905.79500
NE_QUAD_CORNER_XY: 323914.03200 5353760.39000
SE_QUAD_CORNERY_XY: 323698.98800 5346814.11000
SW_QUAD_CORNER_XY: 319059.79800 5346959.55200
SECONDARY_NW_QUAD_XY: 319274.78200 5353686.94200
SECONDARY_NE_QUAD_XY: 323908.45400 5353541.53200
SECONDARY_SE_QUAD_XY: 323693.41100 5346595.26300
SECONDARY_SW_QUAD_XY: 319054.07400 5346740.70900
RMSE_XY: 2.60000
IMAGE_SOURCE: BLACK AND WHITE FILM
SOURCE_IMAGE_ID: PAPP 4614 434
SOURCE_IMAGE_DATE: 1991 8 22
SOURCE_DEM_DATE: 1994 11 4
AGENCY: WESTERN MAPPING CENTER (WMC)
PRODUCER: Science Applications International
PRODUCTION_SYSTEM: GIS/MAGIC
COMPRESSION: UNDEFINED
STANDARD_VERSION: 1996 12
METADATA_DATE: 1997 5 20
DATA_FILE_SIZE: 42546846
BYTE_COUNT: 5527
