FILENAME: O4811344.SWS.47462.tif
QUADRANGLE_NAME: ESSEX
QUADRANT: SW
WEST_LONGITUDE: -113 37 30.00000
EAST_LONGITUDE: -113 33 45.00000
NORTH_LATITUDE: 48 18 45.00000
SOUTH_LATITUDE: 48 15 0.00000
PRODUCTION_DATE: 1994 11 4
RASTER_ORDER: LEFT_RIGHT/TOP_BOTTOM
BAND_ORGANIZATION: SINGLE FILE
BAND_CONTENT: BLACK&WHITE
BAND_CONTENT: UNDEFINED
BAND_CONTENT: UNDEFINED
BITS_PER_PIXEL: 8
SAMPLES_AND_LINES: 5544 7708
HORIZONTAL_DATUM: NAD83
HORIZONTAL_COORDINATE_SYSTEM: UTM
COORDINATE_ZONE: 12
HORIZONTAL_UNITS: METERS
HORIZONTAL_RESOLUTION: 1.00000
SECONDARY_HORIZONTAL_DATUM: NAD27
XY_ORIGIN: 304771.00000 5354665.00000
SECONDARY_XY_ORIGIN: 304834.49100 5354447.87400
NATION: US
STATE: MT
NW_QUAD_CORNER_XY: 305380.08300 5354364.69700
NE_QUAD_CORNER_XY: 310013.53100 5354207.94800
SE_QUAD_CORNERY_XY: 309781.49300 5347261.78000
SW_QUAD_CORNER_XY: 305142.37800 5347418.56700
SECONDARY_NW_QUAD_XY: 305373.91800 5354145.85800
SECONDARY_NE_QUAD_XY: 310007.51300 5353989.10500
SECONDARY_SE_QUAD_XY: 309775.47500 5347042.94700
SECONDARY_SW_QUAD_XY: 305136.21300 5347199.73900
RMSE_XY: 3.80000
IMAGE_SOURCE: BLACK AND WHITE FILM
SOURCE_IMAGE_ID: NAPP 2610 026
SOURCE_IMAGE_DATE: 1990 8 7
SOURCE_DEM_DATE: 1994 11 4
AGENCY: WESTERN MAPPING CENTER (WMC)
PRODUCER: Science Applications International
PRODUCTION_SYSTEM: GIS/MAGIC
COMPRESSION: UNDEFINED
STANDARD_VERSION: 1996 12
METADATA_DATE: 1997 8 22
DATA_FILE_SIZE: 42738696
BYTE_COUNT: 5544
