FILENAME: O4811343.SWS.47642.tif
QUADRANGLE_NAME: PINNACLE
QUADRANT: SW
WEST_LONGITUDE: -113 45 0.00000
EAST_LONGITUDE: -113 41 15.00000
NORTH_LATITUDE: 48 18 45.00000
SOUTH_LATITUDE: 48 15 0.00000
PRODUCTION_DATE: 1994 11 4
RASTER_ORDER: LEFT_RIGHT/TOP_BOTTOM
BAND_ORGANIZATION: SINGLE FILE
BAND_CONTENT: BLACK&WHITE
BAND_CONTENT: UNDEFINED
BAND_CONTENT: UNDEFINED
BITS_PER_PIXEL: 8
SAMPLES_AND_LINES: 5555 7715
HORIZONTAL_DATUM: NAD83
HORIZONTAL_COORDINATE_SYSTEM: UTM
COORDINATE_ZONE: 12
HORIZONTAL_UNITS: METERS
HORIZONTAL_RESOLUTION: 1.00000
SECONDARY_HORIZONTAL_DATUM: NAD27
XY_ORIGIN: 295493.00000 5354990.00000
SECONDARY_XY_ORIGIN: 295556.44000 5354772.69700
NATION: US
STATE: MT
NW_QUAD_CORNER_XY: 296113.26600 5354689.53800
NE_QUAD_CORNER_XY: 300746.66000 5354525.22600
SE_QUAD_CORNERY_XY: 300503.28900 5347579.13700
SW_QUAD_CORNER_XY: 295864.22700 5347743.49000
SECONDARY_NW_QUAD_XY: 296106.80700 5354470.70900
SECONDARY_NE_QUAD_XY: 300740.34900 5354306.39300
SECONDARY_SE_QUAD_XY: 300496.97800 5347360.31400
SECONDARY_SW_QUAD_XY: 295857.76900 5347524.67200
RMSE_XY: 4.60000
IMAGE_SOURCE: BLACK AND WHITE FILM
SOURCE_IMAGE_ID: PAPP 7617 343
SOURCE_IMAGE_DATE: 1990 9 7
SOURCE_DEM_DATE: 1994 11 4
AGENCY: WESTERN MAPPING CENTER (WMC)
PRODUCER: Science Applications International
PRODUCTION_SYSTEM: GIS/MAGIC
COMPRESSION: UNDEFINED
STANDARD_VERSION: 1996 12
METADATA_DATE: 1997 5 20
DATA_FILE_SIZE: 42862380
BYTE_COUNT: 5555
