FILENAME: O4811342.NWS.47799.tif
QUADRANGLE_NAME: MOUNT GRANT
QUADRANT: NW
WEST_LONGITUDE: -113 52 30.00000
EAST_LONGITUDE: -113 48 45.00000
NORTH_LATITUDE: 48 22 30.00000
SOUTH_LATITUDE: 48 18 45.00000
PRODUCTION_DATE: 1994 11 4
RASTER_ORDER: LEFT_RIGHT/TOP_BOTTOM
BAND_ORGANIZATION: SINGLE FILE
BAND_CONTENT: BLACK&WHITE
BAND_CONTENT: UNDEFINED
BAND_CONTENT: UNDEFINED
BITS_PER_PIXEL: 8
SAMPLES_AND_LINES: 5561 7722
HORIZONTAL_DATUM: NAD83
HORIZONTAL_COORDINATE_SYSTEM: UTM
COORDINATE_ZONE: 12
HORIZONTAL_UNITS: METERS
HORIZONTAL_RESOLUTION: 1.00000
SECONDARY_HORIZONTAL_DATUM: NAD27
XY_ORIGIN: 286475.00000 5362276.00000
SECONDARY_XY_ORIGIN: 286538.44500 5362058.44700
NATION: US
STATE: MT
NW_QUAD_CORNER_XY: 287107.19000 5361975.52800
NE_QUAD_CORNER_XY: 291734.85400 5361803.69500
SE_QUAD_CORNERY_XY: 291479.89900 5354857.63200
SW_QUAD_CORNER_XY: 286846.56100 5355029.50800
SECONDARY_NW_QUAD_XY: 287100.43700 5361756.70000
SECONDARY_NE_QUAD_XY: 291728.24900 5361584.86200
SECONDARY_SE_QUAD_XY: 291473.29300 5354638.80800
SECONDARY_SW_QUAD_XY: 286839.80800 5354810.69000
RMSE_XY: 2.00000
IMAGE_SOURCE: BLACK AND WHITE FILM
SOURCE_IMAGE_ID: NAPP 2634 049
SOURCE_IMAGE_DATE: 1991 8 3
SOURCE_DEM_DATE: 1994 11 4
AGENCY: WESTERN MAPPING CENTER (WMC)
PRODUCER: Science Applications International
PRODUCTION_SYSTEM: GIS/MAGIC
COMPRESSION: UNDEFINED
STANDARD_VERSION: 1996 12
METADATA_DATE: 1997 7 28
DATA_FILE_SIZE: 42947603
BYTE_COUNT: 5561
