FILENAME: O4811342.SES.47800.tif
QUADRANGLE_NAME: MOUNT GRANT
QUADRANT: SE
WEST_LONGITUDE: -113 48 45.00000
EAST_LONGITUDE: -113 45 0.00000
NORTH_LATITUDE: 48 18 45.00000
SOUTH_LATITUDE: 48 15 0.00000
PRODUCTION_DATE: 1994 11 4
RASTER_ORDER: LEFT_RIGHT/TOP_BOTTOM
BAND_ORGANIZATION: SINGLE FILE
BAND_CONTENT: BLACK&WHITE
BAND_CONTENT: UNDEFINED
BAND_CONTENT: UNDEFINED
BITS_PER_PIXEL: 8
SAMPLES_AND_LINES: 5561 7719
HORIZONTAL_DATUM: NAD83
HORIZONTAL_COORDINATE_SYSTEM: UTM
COORDINATE_ZONE: 12
HORIZONTAL_UNITS: METERS
HORIZONTAL_RESOLUTION: 1.00000
SECONDARY_HORIZONTAL_DATUM: NAD27
XY_ORIGIN: 290854.00000 5355158.00000
SECONDARY_XY_ORIGIN: 290917.44600 5354940.64400
NATION: US
STATE: MT
NW_QUAD_CORNER_XY: 291479.89900 5354857.63200
NE_QUAD_CORNER_XY: 296113.26600 5354689.53800
SE_QUAD_CORNERY_XY: 295864.22700 5347743.49000
SW_QUAD_CORNER_XY: 291225.19300 5347911.62500
SECONDARY_NW_QUAD_XY: 291473.29300 5354638.80800
SECONDARY_NE_QUAD_XY: 296106.80700 5354470.70900
SECONDARY_SE_QUAD_XY: 295857.76900 5347524.67200
SECONDARY_SW_QUAD_XY: 291218.58800 5347692.81300
RMSE_XY: 4.40000
IMAGE_SOURCE: BLACK AND WHITE FILM
SOURCE_IMAGE_ID: NAPP 5615 121
SOURCE_IMAGE_DATE: 1991 8 26
SOURCE_DEM_DATE: 1994 11 4
AGENCY: WESTERN MAPPING CENTER (WMC)
PRODUCER: Science Applications International
PRODUCTION_SYSTEM: GIS/MAGIC
COMPRESSION: UNDEFINED
STANDARD_VERSION: 1996 12
METADATA_DATE: 1997 7 30
DATA_FILE_SIZE: 42930920
BYTE_COUNT: 5561
