FILENAME: O4811341.NES.47937.tif
QUADRANGLE_NAME: NYACK SW
QUADRANT: NE
WEST_LONGITUDE: -113 56 15.00000
EAST_LONGITUDE: -113 52 30.00000
NORTH_LATITUDE: 48 22 30.00000
SOUTH_LATITUDE: 48 18 45.00000
PRODUCTION_DATE: 1994 11 4
RASTER_ORDER: LEFT_RIGHT/TOP_BOTTOM
BAND_ORGANIZATION: SINGLE FILE
BAND_CONTENT: BLACK&WHITE
BAND_CONTENT: UNDEFINED
BAND_CONTENT: UNDEFINED
BITS_PER_PIXEL: 8
SAMPLES_AND_LINES: 5568 7726
HORIZONTAL_DATUM: NAD83
HORIZONTAL_COORDINATE_SYSTEM: UTM
COORDINATE_ZONE: 12
HORIZONTAL_UNITS: METERS
HORIZONTAL_RESOLUTION: 1.00000
SECONDARY_HORIZONTAL_DATUM: NAD27
XY_ORIGIN: 281841.00000 5362452.00000
SECONDARY_XY_ORIGIN: 281904.43300 5362234.40500
NATION: US
STATE: MT
NW_QUAD_CORNER_XY: 282479.55500 5362151.14200
NE_QUAD_CORNER_XY: 287107.19000 5361975.52800
SE_QUAD_CORNERY_XY: 286846.56100 5355029.50800
SW_QUAD_CORNER_XY: 282213.25200 5355205.16700
SECONDARY_NW_QUAD_XY: 282472.65500 5361932.32000
SECONDARY_NE_QUAD_XY: 287100.43700 5361756.70000
SECONDARY_SE_QUAD_XY: 286839.80800 5354810.69000
SECONDARY_SW_QUAD_XY: 282206.35300 5354986.35500
RMSE_XY: 1.20000
IMAGE_SOURCE: BLACK AND WHITE FILM
SOURCE_IMAGE_ID: NAPP 2634 070
SOURCE_IMAGE_DATE: 1991 8 3
SOURCE_DEM_DATE: 1994 11 4
AGENCY: WESTERN MAPPING CENTER (WMC)
PRODUCER: Science Applications International
PRODUCTION_SYSTEM: GIS/MAGIC
COMPRESSION: UNDEFINED
STANDARD_VERSION: 1996 12
METADATA_DATE: 1997 7 28
DATA_FILE_SIZE: 43023936
BYTE_COUNT: 5568
