FILENAME: O4811341.NWS.47938.tif
QUADRANGLE_NAME: NYACK SW
QUADRANT: NW
WEST_LONGITUDE: -114 0 0.00000
EAST_LONGITUDE: -113 56 15.00000
NORTH_LATITUDE: 48 22 30.00000
SOUTH_LATITUDE: 48 18 45.00000
PRODUCTION_DATE: 1994 11 4
RASTER_ORDER: LEFT_RIGHT/TOP_BOTTOM
BAND_ORGANIZATION: SINGLE FILE
BAND_CONTENT: BLACK&WHITE
BAND_CONTENT: UNDEFINED
BAND_CONTENT: UNDEFINED
BITS_PER_PIXEL: 8
SAMPLES_AND_LINES: 5573 7730
HORIZONTAL_DATUM: NAD83
HORIZONTAL_COORDINATE_SYSTEM: UTM
COORDINATE_ZONE: 12
HORIZONTAL_UNITS: METERS
HORIZONTAL_RESOLUTION: 1.00000
SECONDARY_HORIZONTAL_DATUM: NAD27
XY_ORIGIN: 277208.00000 5362631.00000
SECONDARY_XY_ORIGIN: 277271.42000 5362413.36300
NATION: US
STATE: MT
NW_QUAD_CORNER_XY: 277851.95000 5362330.53800
NE_QUAD_CORNER_XY: 282479.55500 5362151.14200
SE_QUAD_CORNERY_XY: 282213.25200 5355205.16700
SW_QUAD_CORNER_XY: 277579.97200 5355384.60900
SECONDARY_NW_QUAD_XY: 277844.90400 5362111.72200
SECONDARY_NE_QUAD_XY: 282472.65500 5361932.32000
SECONDARY_SE_QUAD_XY: 282206.35300 5354986.35500
SECONDARY_SW_QUAD_XY: 277572.92700 5355165.80200
RMSE_XY: 1.60000
IMAGE_SOURCE: BLACK AND WHITE FILM
SOURCE_IMAGE_ID: NAPP 2634 085
SOURCE_IMAGE_DATE: 1991 8 3
SOURCE_DEM_DATE: 1994 11 4
AGENCY: WESTERN MAPPING CENTER (WMC)
PRODUCER: Science Applications International
PRODUCTION_SYSTEM: GIS/MAGIC
COMPRESSION: UNDEFINED
STANDARD_VERSION: 1996 12
METADATA_DATE: 1997 7 28
DATA_FILE_SIZE: 43084863
BYTE_COUNT: 5573
