FILENAME: O4811340.NWS.46715.tif
QUADRANGLE_NAME: BIG ROCK
QUADRANT: NW
WEST_LONGITUDE: -113 7 30.00000
EAST_LONGITUDE: -113 3 45.00000
NORTH_LATITUDE: 48 30 0.00000
SOUTH_LATITUDE: 48 26 15.00000
PRODUCTION_DATE: 1994 12 22
RASTER_ORDER: LEFT_RIGHT/TOP_BOTTOM
BAND_ORGANIZATION: SINGLE FILE
BAND_CONTENT: BLACK&WHITE
BAND_CONTENT: UNDEFINED
BAND_CONTENT: UNDEFINED
BITS_PER_PIXEL: 8
SAMPLES_AND_LINES: 5481 7678
HORIZONTAL_DATUM: NAD83
HORIZONTAL_COORDINATE_SYSTEM: UTM
COORDINATE_ZONE: 12
HORIZONTAL_UNITS: METERS
HORIZONTAL_RESOLUTION: 1.00000
SECONDARY_HORIZONTAL_DATUM: NAD27
XY_ORIGIN: 342464.00000 5374357.00000
SECONDARY_XY_ORIGIN: 342527.23700 5374139.48900
NATION: US
STATE: MT
NW_QUAD_CORNER_XY: 343026.66500 5374056.20800
NE_QUAD_CORNER_XY: 347643.28300 5373929.79900
SE_QUAD_CORNERY_XY: 347456.00700 5366983.15400
SW_QUAD_CORNER_XY: 342833.71000 5367109.59600
SECONDARY_NW_QUAD_XY: 343021.67400 5373837.30500
SECONDARY_NE_QUAD_XY: 347638.43900 5373710.89200
SECONDARY_SE_QUAD_XY: 347451.16300 5366764.25500
SECONDARY_SW_QUAD_XY: 342828.71900 5366890.70100
RMSE_XY: 0.70000
IMAGE_SOURCE: BLACK AND WHITE FILM
SOURCE_IMAGE_ID: PAPP 7607 030
SOURCE_IMAGE_DATE: 1990 7 12
SOURCE_DEM_DATE: 1994 12 22
AGENCY: WESTERN MAPPING CENTER (WMC)
PRODUCER: Science Applications International
PRODUCTION_SYSTEM: GIS/MAGIC
COMPRESSION: UNDEFINED
STANDARD_VERSION: 1996 12
METADATA_DATE: 1997 5 20
DATA_FILE_SIZE: 42088599
BYTE_COUNT: 5481
