FILENAME: O4811340.SWS.46717.tif
QUADRANGLE_NAME: BIG ROCK
QUADRANT: SW
WEST_LONGITUDE: -113 7 30.00000
EAST_LONGITUDE: -113 3 45.00000
NORTH_LATITUDE: 48 26 15.00000
SOUTH_LATITUDE: 48 22 30.00000
PRODUCTION_DATE: 1994 12 22
RASTER_ORDER: LEFT_RIGHT/TOP_BOTTOM
BAND_ORGANIZATION: SINGLE FILE
BAND_CONTENT: BLACK&WHITE
BAND_CONTENT: UNDEFINED
BAND_CONTENT: UNDEFINED
BITS_PER_PIXEL: 8
SAMPLES_AND_LINES: 5487 7678
HORIZONTAL_DATUM: NAD83
HORIZONTAL_COORDINATE_SYSTEM: UTM
COORDINATE_ZONE: 12
HORIZONTAL_UNITS: METERS
HORIZONTAL_RESOLUTION: 1.00000
SECONDARY_HORIZONTAL_DATUM: NAD27
XY_ORIGIN: 342271.00000 5367410.00000
SECONDARY_XY_ORIGIN: 342334.16700 5367192.72300
NATION: US
STATE: MT
NW_QUAD_CORNER_XY: 342833.71000 5367109.59600
NE_QUAD_CORNER_XY: 347456.00700 5366983.15400
SE_QUAD_CORNERY_XY: 347268.91500 5360036.57500
SW_QUAD_CORNER_XY: 342640.94400 5360163.04900
SECONDARY_NW_QUAD_XY: 342828.71900 5366890.70100
SECONDARY_NE_QUAD_XY: 347451.16300 5366764.25500
SECONDARY_SE_QUAD_XY: 347264.07100 5359817.68600
SECONDARY_SW_QUAD_XY: 342635.95300 5359944.16400
RMSE_XY: 0.80000
IMAGE_SOURCE: BLACK AND WHITE FILM
SOURCE_IMAGE_ID: PAPP 7607 828
SOURCE_IMAGE_DATE: 1990 7 12
SOURCE_DEM_DATE: 1994 12 22
AGENCY: WESTERN MAPPING CENTER (WMC)
PRODUCER: Science Applications International
PRODUCTION_SYSTEM: GIS/MAGIC
COMPRESSION: UNDEFINED
STANDARD_VERSION: 1996 12
METADATA_DATE: 1997 5 20
DATA_FILE_SIZE: 42134673
BYTE_COUNT: 5487
