FILENAME: O4811338.NES.47084.tif
QUADRANGLE_NAME: SQUAW MOUNTAIN
QUADRANT: NE
WEST_LONGITUDE: -113 18 45.00000
EAST_LONGITUDE: -113 15 0.00000
NORTH_LATITUDE: 48 30 0.00000
SOUTH_LATITUDE: 48 26 15.00000
PRODUCTION_DATE: 1994 11 18
RASTER_ORDER: LEFT_RIGHT/TOP_BOTTOM
BAND_ORGANIZATION: SINGLE FILE
BAND_CONTENT: BLACK&WHITE
BAND_CONTENT: UNDEFINED
BAND_CONTENT: UNDEFINED
BITS_PER_PIXEL: 8
SAMPLES_AND_LINES: 5498 7689
HORIZONTAL_DATUM: NAD83
HORIZONTAL_COORDINATE_SYSTEM: UTM
COORDINATE_ZONE: 12
HORIZONTAL_UNITS: METERS
HORIZONTAL_RESOLUTION: 1.00000
SECONDARY_HORIZONTAL_DATUM: NAD27
XY_ORIGIN: 328597.00000 5374759.00000
SECONDARY_XY_ORIGIN: 328660.46000 5374541.51200
NATION: US
STATE: MT
NW_QUAD_CORNER_XY: 329176.95000 5374458.09200
NE_QUAD_CORNER_XY: 333793.49800 5374320.35400
SE_QUAD_CORNERY_XY: 333589.18400 5367373.81200
SW_QUAD_CORNER_XY: 328966.95500 5367511.58600
SECONDARY_NW_QUAD_XY: 329171.51900 5374239.20200
SECONDARY_NE_QUAD_XY: 333788.21300 5374101.45900
SECONDARY_SE_QUAD_XY: 333583.89900 5367154.92500
SECONDARY_SW_QUAD_XY: 328961.52400 5367292.70400
RMSE_XY: 0.70000
IMAGE_SOURCE: BLACK AND WHITE FILM
SOURCE_IMAGE_ID: PAPP 7617 757
SOURCE_IMAGE_DATE: 1990 9 7
SOURCE_DEM_DATE: 1994 11 18
AGENCY: WESTERN MAPPING CENTER (WMC)
PRODUCER: Science Applications International
PRODUCTION_SYSTEM: GIS/MAGIC
COMPRESSION: UNDEFINED
STANDARD_VERSION: 1996 12
METADATA_DATE: 1997 5 20
DATA_FILE_SIZE: 42279620
BYTE_COUNT: 5498
