FILENAME: O4811338.NWS.47085.tif
QUADRANGLE_NAME: SQUAW MOUNTAIN
QUADRANT: NW
WEST_LONGITUDE: -113 22 30.00000
EAST_LONGITUDE: -113 18 45.00000
NORTH_LATITUDE: 48 30 0.00000
SOUTH_LATITUDE: 48 26 15.00000
PRODUCTION_DATE: 1995 4 27
RASTER_ORDER: LEFT_RIGHT/TOP_BOTTOM
BAND_ORGANIZATION: SINGLE FILE
BAND_CONTENT: BLACK&WHITE
BAND_CONTENT: UNDEFINED
BAND_CONTENT: UNDEFINED
BITS_PER_PIXEL: 8
SAMPLES_AND_LINES: 5504 7693
HORIZONTAL_DATUM: NAD83
HORIZONTAL_COORDINATE_SYSTEM: UTM
COORDINATE_ZONE: 12
HORIZONTAL_UNITS: METERS
HORIZONTAL_RESOLUTION: 1.00000
SECONDARY_HORIZONTAL_DATUM: NAD27
XY_ORIGIN: 323974.00000 5374900.00000
SECONDARY_XY_ORIGIN: 324037.47000 5374682.53000
NATION: US
STATE: MT
NW_QUAD_CORNER_XY: 324560.43000 5374599.61000
NE_QUAD_CORNER_XY: 329176.95000 5374458.09000
SE_QUAD_CORNERY_XY: 328966.96000 5367511.59000
SW_QUAD_CORNER_XY: 324344.75000 5367653.14000
SECONDARY_NW_QUAD_XY: 324554.85000 5374380.72000
SECONDARY_NE_QUAD_XY: 329171.52000 5374239.20000
SECONDARY_SE_QUAD_XY: 328961.52000 5367292.70000
SECONDARY_SW_QUAD_XY: 324339.17000 5367434.26000
RMSE_XY: 0.70000
IMAGE_SOURCE: BLACK AND WHITE FILM
SOURCE_IMAGE_ID: NAPP 4614 77
SOURCE_IMAGE_DATE: 1991 8 22
SOURCE_IMAGE_ID: NAPP 4614 4614
SOURCE_IMAGE_DATE: 1991 8 22
SOURCE_IMAGE_ID: NAPP 4614 66
SOURCE_IMAGE_DATE: 1991 8 22
SOURCE_IMAGE_ID: NAPP 4614 4614
SOURCE_IMAGE_DATE: 1991 8 22
SOURCE_IMAGE_ID: NAPP 4614 88
SOURCE_IMAGE_DATE: 1991 8 22
SOURCE_DEM_DATE: 1995 4 27
AGENCY: WESTERN MAPPING CENTER (WMC)
PRODUCER: Science Applications International
PRODUCTION_SYSTEM: GIS/MAGIC
COMPRESSION: UNDEFINED
STANDARD_VERSION: 1996 12
METADATA_DATE: 1997 5 20
DATA_FILE_SIZE: 42347776
BYTE_COUNT: 5504
