FILENAME: O4811338.SES.47086.tif
QUADRANGLE_NAME: SQUAW MOUNTAIN
QUADRANT: SE
WEST_LONGITUDE: -113 18 45.00000
EAST_LONGITUDE: -113 15 0.00000
NORTH_LATITUDE: 48 26 15.00000
SOUTH_LATITUDE: 48 22 30.00000
PRODUCTION_DATE: 1995 4 27
RASTER_ORDER: LEFT_RIGHT/TOP_BOTTOM
BAND_ORGANIZATION: SINGLE FILE
BAND_CONTENT: BLACK&WHITE
BAND_CONTENT: UNDEFINED
BAND_CONTENT: UNDEFINED
BITS_PER_PIXEL: 8
SAMPLES_AND_LINES: 5504 7689
HORIZONTAL_DATUM: NAD83
HORIZONTAL_COORDINATE_SYSTEM: UTM
COORDINATE_ZONE: 12
HORIZONTAL_UNITS: METERS
HORIZONTAL_RESOLUTION: 1.00000
SECONDARY_HORIZONTAL_DATUM: NAD27
XY_ORIGIN: 328387.00000 5367812.00000
SECONDARY_XY_ORIGIN: 328450.44000 5367594.71000
NATION: US
STATE: MT
NW_QUAD_CORNER_XY: 328966.96000 5367511.59000
NE_QUAD_CORNER_XY: 333589.18000 5367373.81000
SE_QUAD_CORNERY_XY: 333385.07000 5360427.33000
SW_QUAD_CORNER_XY: 328757.17000 5360565.14000
SECONDARY_NW_QUAD_XY: 328961.52000 5367292.70000
SECONDARY_NE_QUAD_XY: 333583.90000 5367154.92000
SECONDARY_SE_QUAD_XY: 333379.78000 5360208.46000
SECONDARY_SW_QUAD_XY: 328751.73000 5360346.27000
RMSE_XY: 1.20000
IMAGE_SOURCE: BLACK AND WHITE FILM
SOURCE_IMAGE_ID: NAPP 7617 959
SOURCE_IMAGE_DATE: 1990 9 7
SOURCE_IMAGE_ID: NAPP 7617 7617
SOURCE_IMAGE_DATE: 1990 9 7
SOURCE_IMAGE_ID: NAPP 7617 858
SOURCE_IMAGE_DATE: 1990 9 7
SOURCE_DEM_DATE: 1995 4 27
AGENCY: WESTERN MAPPING CENTER (WMC)
PRODUCER: Science Applications International
PRODUCTION_SYSTEM: GIS/MAGIC
COMPRESSION: UNDEFINED
STANDARD_VERSION: 1996 12
METADATA_DATE: 1997 5 20
DATA_FILE_SIZE: 42325760
BYTE_COUNT: 5504
