FILENAME: O4811337.SWS.47277.tif
QUADRANGLE_NAME: MOUNT ROCKWELL
QUADRANT: SW
WEST_LONGITUDE: -113 30 0.00000
EAST_LONGITUDE: -113 26 15.00000
NORTH_LATITUDE: 48 26 15.00000
SOUTH_LATITUDE: 48 22 30.00000
PRODUCTION_DATE: 1995 4 27
RASTER_ORDER: LEFT_RIGHT/TOP_BOTTOM
BAND_ORGANIZATION: SINGLE FILE
BAND_CONTENT: BLACK&WHITE
BAND_CONTENT: UNDEFINED
BAND_CONTENT: UNDEFINED
BITS_PER_PIXEL: 8
SAMPLES_AND_LINES: 5521 7700
HORIZONTAL_DATUM: NAD83
HORIZONTAL_COORDINATE_SYSTEM: UTM
COORDINATE_ZONE: 12
HORIZONTAL_UNITS: METERS
HORIZONTAL_RESOLUTION: 1.00000
SECONDARY_HORIZONTAL_DATUM: NAD27
XY_ORIGIN: 314503.00000 5368248.00000
SECONDARY_XY_ORIGIN: 314566.50000 5368030.72000
NATION: US
STATE: MT
NW_QUAD_CORNER_XY: 315100.42000 5367947.58000
NE_QUAD_CORNER_XY: 319722.57000 5367798.47000
SE_QUAD_CORNERY_XY: 319501.43000 5360852.10000
SW_QUAD_CORNER_XY: 314873.60000 5361001.25000
SECONDARY_NW_QUAD_XY: 315094.55000 5367728.71000
SECONDARY_NE_QUAD_XY: 319716.85000 5367579.60000
SECONDARY_SE_QUAD_XY: 319495.71000 5360633.24000
SECONDARY_SW_QUAD_XY: 314867.73000 5360782.39000
RMSE_XY: 8.10000
IMAGE_SOURCE: BLACK AND WHITE FILM
SOURCE_IMAGE_ID: NAPP 4614 77
SOURCE_IMAGE_DATE: 1991 8 22
SOURCE_IMAGE_ID: NAPP 4614 5615
SOURCE_IMAGE_DATE: 1991 8 22
SOURCE_IMAGE_ID: NAPP 4614 11
SOURCE_IMAGE_DATE: 1991 8 22
SOURCE_IMAGE_ID: NAPP 4614 4614
SOURCE_IMAGE_DATE: 1991 8 22
SOURCE_IMAGE_ID: NAPP 4614 88
SOURCE_IMAGE_DATE: 1991 8 22
SOURCE_DEM_DATE: 1995 4 27
AGENCY: WESTERN MAPPING CENTER (WMC)
PRODUCER: Science Applications International
PRODUCTION_SYSTEM: GIS/MAGIC
COMPRESSION: UNDEFINED
STANDARD_VERSION: 1996 12
METADATA_DATE: 1997 5 20
DATA_FILE_SIZE: 42517221
BYTE_COUNT: 5521
