FILENAME: O4811336.SES.47457.tif
QUADRANGLE_NAME: MOUNT SAINT NICHOLAS
QUADRANT: SE
WEST_LONGITUDE: -113 33 45.00000
EAST_LONGITUDE: -113 30 0.00000
NORTH_LATITUDE: 48 26 15.00000
SOUTH_LATITUDE: 48 22 30.00000
PRODUCTION_DATE: 1995 4 27
RASTER_ORDER: LEFT_RIGHT/TOP_BOTTOM
BAND_ORGANIZATION: SINGLE FILE
BAND_CONTENT: BLACK&WHITE
BAND_CONTENT: UNDEFINED
BAND_CONTENT: UNDEFINED
BITS_PER_PIXEL: 8
SAMPLES_AND_LINES: 5527 7704
HORIZONTAL_DATUM: NAD83
HORIZONTAL_COORDINATE_SYSTEM: UTM
COORDINATE_ZONE: 12
HORIZONTAL_UNITS: METERS
HORIZONTAL_RESOLUTION: 1.00000
SECONDARY_HORIZONTAL_DATUM: NAD27
XY_ORIGIN: 309875.00000 5368401.00000
SECONDARY_XY_ORIGIN: 309938.49000 5368183.63000
NATION: US
STATE: MT
NW_QUAD_CORNER_XY: 310478.29000 5368100.47000
NE_QUAD_CORNER_XY: 315100.42000 5367947.58000
SE_QUAD_CORNERY_XY: 314873.60000 5361001.25000
SW_QUAD_CORNER_XY: 310245.80000 5361154.18000
SECONDARY_NW_QUAD_XY: 310472.27000 5367881.60000
SECONDARY_NE_QUAD_XY: 315094.55000 5367728.71000
SECONDARY_SE_QUAD_XY: 314867.73000 5360782.39000
SECONDARY_SW_QUAD_XY: 310239.78000 5360935.32000
RMSE_XY: 8.20000
IMAGE_SOURCE: BLACK AND WHITE FILM
SOURCE_IMAGE_ID: NAPP 5615 88
SOURCE_IMAGE_DATE: 1991 8 26
SOURCE_IMAGE_ID: NAPP 5615 5615
SOURCE_IMAGE_DATE: 1991 8 26
SOURCE_IMAGE_ID: NAPP 5615 99
SOURCE_IMAGE_DATE: 1991 8 26
SOURCE_IMAGE_ID: NAPP 5615 5615
SOURCE_IMAGE_DATE: 1991 8 26
SOURCE_IMAGE_ID: NAPP 5615 77
SOURCE_IMAGE_DATE: 1991 8 26
SOURCE_DEM_DATE: 1995 4 27
AGENCY: WESTERN MAPPING CENTER (WMC)
PRODUCER: Science Applications International
PRODUCTION_SYSTEM: GIS/MAGIC
COMPRESSION: UNDEFINED
STANDARD_VERSION: 1996 12
METADATA_DATE: 1997 5 20
DATA_FILE_SIZE: 42585535
BYTE_COUNT: 5527
