FILENAME: O4811336.SWS.47458.tif
QUADRANGLE_NAME: MOUNT SAINT NICHOLAS
QUADRANT: SW
WEST_LONGITUDE: -113 37 30.00000
EAST_LONGITUDE: -113 33 45.00000
NORTH_LATITUDE: 48 26 15.00000
SOUTH_LATITUDE: 48 22 30.00000
PRODUCTION_DATE: 1995 4 27
RASTER_ORDER: LEFT_RIGHT/TOP_BOTTOM
BAND_ORGANIZATION: SINGLE FILE
BAND_CONTENT: BLACK&WHITE
BAND_CONTENT: UNDEFINED
BAND_CONTENT: UNDEFINED
BITS_PER_PIXEL: 8
SAMPLES_AND_LINES: 5533 7708
HORIZONTAL_DATUM: NAD83
HORIZONTAL_COORDINATE_SYSTEM: UTM
COORDINATE_ZONE: 12
HORIZONTAL_UNITS: METERS
HORIZONTAL_RESOLUTION: 1.00000
SECONDARY_HORIZONTAL_DATUM: NAD27
XY_ORIGIN: 305247.00000 5368558.00000
SECONDARY_XY_ORIGIN: 305310.49000 5368340.54000
NATION: US
STATE: MT
NW_QUAD_CORNER_XY: 305856.19000 5368257.14000
NE_QUAD_CORNER_XY: 310478.29000 5368100.47000
SE_QUAD_CORNERY_XY: 310245.80000 5361154.18000
SW_QUAD_CORNER_XY: 305618.02000 5361310.88000
SECONDARY_NW_QUAD_XY: 305850.03000 5368038.28000
SECONDARY_NE_QUAD_XY: 310472.27000 5367881.60000
SECONDARY_SE_QUAD_XY: 310239.78000 5360935.32000
SECONDARY_SW_QUAD_XY: 305611.86000 5361092.04000
RMSE_XY: 3.80000
IMAGE_SOURCE: BLACK AND WHITE FILM
SOURCE_IMAGE_ID: NAPP 5615 55
SOURCE_IMAGE_DATE: 1991 8 26
SOURCE_IMAGE_ID: NAPP 5615 5615
SOURCE_IMAGE_DATE: 1991 8 26
SOURCE_IMAGE_ID: NAPP 5615 66
SOURCE_IMAGE_DATE: 1991 8 26
SOURCE_DEM_DATE: 1995 4 27
AGENCY: WESTERN MAPPING CENTER (WMC)
PRODUCER: Science Applications International
PRODUCTION_SYSTEM: GIS/MAGIC
COMPRESSION: UNDEFINED
STANDARD_VERSION: 1996 12
METADATA_DATE: 1997 5 20
DATA_FILE_SIZE: 42653897
BYTE_COUNT: 5533
