FILENAME: O4811333.NWS.47934.tif
QUADRANGLE_NAME: WEST GLACIER
QUADRANT: NW
WEST_LONGITUDE: -114 0 0.00000
EAST_LONGITUDE: -113 56 15.00000
NORTH_LATITUDE: 48 30 0.00000
SOUTH_LATITUDE: 48 26 15.00000
PRODUCTION_DATE: 1995 4 27
RASTER_ORDER: LEFT_RIGHT/TOP_BOTTOM
BAND_ORGANIZATION: SINGLE FILE
BAND_CONTENT: BLACK&WHITE
BAND_CONTENT: UNDEFINED
BAND_CONTENT: UNDEFINED
BITS_PER_PIXEL: 8
SAMPLES_AND_LINES: 5562 7729
HORIZONTAL_DATUM: NAD83
HORIZONTAL_COORDINATE_SYSTEM: UTM
COORDINATE_ZONE: 12
HORIZONTAL_UNITS: METERS
HORIZONTAL_RESOLUTION: 1.00000
SECONDARY_HORIZONTAL_DATUM: NAD27
XY_ORIGIN: 277752.00000 5376523.00000
SECONDARY_XY_ORIGIN: 277815.39000 5376305.12000
NATION: US
STATE: MT
NW_QUAD_CORNER_XY: 278396.70000 5376222.56000
NE_QUAD_CORNER_XY: 283012.94000 5376043.26000
SE_QUAD_CORNERY_XY: 282746.12000 5369097.17000
SW_QUAD_CORNER_XY: 278124.19000 5369276.52000
SECONDARY_NW_QUAD_XY: 278389.66000 5376003.73000
SECONDARY_NE_QUAD_XY: 283006.04000 5375824.42000
SECONDARY_SE_QUAD_XY: 282739.22000 5368878.34000
SECONDARY_SW_QUAD_XY: 278117.15000 5369057.70000
RMSE_XY: 1.50000
IMAGE_SOURCE: BLACK AND WHITE FILM
SOURCE_IMAGE_ID: NAPP 4634 99
SOURCE_IMAGE_DATE: 1991 8 3
SOURCE_IMAGE_ID: NAPP 4634 4634
SOURCE_IMAGE_DATE: 1991 8 3
SOURCE_IMAGE_ID: NAPP 4634 88
SOURCE_IMAGE_DATE: 1991 8 3
SOURCE_IMAGE_ID: NAPP 4634 4634
SOURCE_IMAGE_DATE: 1991 8 3
SOURCE_IMAGE_ID: NAPP 4634 00
SOURCE_IMAGE_DATE: 1991 8 3
SOURCE_DEM_DATE: 1995 4 27
AGENCY: WESTERN MAPPING CENTER (WMC)
PRODUCER: Science Applications International
PRODUCTION_SYSTEM: GIS/MAGIC
COMPRESSION: UNDEFINED
STANDARD_VERSION: 1996 12
METADATA_DATE: 1997 5 20
DATA_FILE_SIZE: 42994260
BYTE_COUNT: 5562
