FILENAME: O4811331.NWS.46882.tif
QUADRANGLE_NAME: STARR SCHOOL
QUADRANT: NW
WEST_LONGITUDE: -113 15 0.00000
EAST_LONGITUDE: -113 11 15.00000
NORTH_LATITUDE: 48 37 30.00000
SOUTH_LATITUDE: 48 33 45.00000
PRODUCTION_DATE: 1994 12 12
RASTER_ORDER: LEFT_RIGHT/TOP_BOTTOM
BAND_ORGANIZATION: SINGLE FILE
BAND_CONTENT: BLACK&WHITE
BAND_CONTENT: UNDEFINED
BAND_CONTENT: UNDEFINED
BITS_PER_PIXEL: 8
SAMPLES_AND_LINES: 5481 7685
HORIZONTAL_DATUM: NAD83
HORIZONTAL_COORDINATE_SYSTEM: UTM
COORDINATE_ZONE: 12
HORIZONTAL_UNITS: METERS
HORIZONTAL_RESOLUTION: 1.00000
SECONDARY_HORIZONTAL_DATUM: NAD27
XY_ORIGIN: 333628.00000 5388514.00000
SECONDARY_XY_ORIGIN: 333691.46400 5388296.06800
NATION: US
STATE: MT
NW_QUAD_CORNER_XY: 334202.72400 5388213.63100
NE_QUAD_CORNER_XY: 338807.92000 5388079.74200
SE_QUAD_CORNERY_XY: 338608.89800 5381133.03500
SW_QUAD_CORNER_XY: 333998.01200 5381266.96100
SECONDARY_NW_QUAD_XY: 334197.43900 5387994.72200
SECONDARY_NE_QUAD_XY: 338802.78100 5387860.82900
SECONDARY_SE_QUAD_XY: 338603.76000 5380914.12900
SECONDARY_SW_QUAD_XY: 333992.72700 5381048.05800
RMSE_XY: 1.80000
IMAGE_SOURCE: BLACK AND WHITE FILM
SOURCE_IMAGE_ID: PAPP 7607 878
SOURCE_IMAGE_DATE: 1990 7 12
SOURCE_DEM_DATE: 1994 12 12
AGENCY: WESTERN MAPPING CENTER (WMC)
PRODUCER: Science Applications International
PRODUCTION_SYSTEM: GIS/MAGIC
COMPRESSION: UNDEFINED
STANDARD_VERSION: 1996 12
METADATA_DATE: 1997 5 20
DATA_FILE_SIZE: 42126966
BYTE_COUNT: 5481
