FILENAME: O4811331.SES.46883.tif
QUADRANGLE_NAME: STARR SCHOOL
QUADRANT: SE
WEST_LONGITUDE: -113 11 15.00000
EAST_LONGITUDE: -113 7 30.00000
NORTH_LATITUDE: 48 33 45.00000
SOUTH_LATITUDE: 48 30 0.00000
PRODUCTION_DATE: 1994 12 12
RASTER_ORDER: LEFT_RIGHT/TOP_BOTTOM
BAND_ORGANIZATION: SINGLE FILE
BAND_CONTENT: BLACK&WHITE
BAND_CONTENT: UNDEFINED
BAND_CONTENT: UNDEFINED
BITS_PER_PIXEL: 8
SAMPLES_AND_LINES: 5481 7682
HORIZONTAL_DATUM: NAD83
HORIZONTAL_COORDINATE_SYSTEM: UTM
COORDINATE_ZONE: 12
HORIZONTAL_UNITS: METERS
HORIZONTAL_RESOLUTION: 1.00000
SECONDARY_HORIZONTAL_DATUM: NAD27
XY_ORIGIN: 338040.00000 5381434.00000
SECONDARY_XY_ORIGIN: 338103.36000 5381216.28200
NATION: US
STATE: MT
NW_QUAD_CORNER_XY: 338608.89800 5381133.03500
NE_QUAD_CORNER_XY: 343219.80800 5381002.88500
SE_QUAD_CORNERY_XY: 343026.66500 5374056.20800
SW_QUAD_CORNER_XY: 338410.07000 5374186.39300
SECONDARY_NW_QUAD_XY: 338603.76000 5380914.12900
SECONDARY_NE_QUAD_XY: 343214.81700 5380783.97500
SECONDARY_SE_QUAD_XY: 343021.67400 5373837.30500
SECONDARY_SW_QUAD_XY: 338404.93200 5373967.49400
RMSE_XY: 2.30000
IMAGE_SOURCE: BLACK AND WHITE FILM
SOURCE_IMAGE_ID: PAPP 7607 565
SOURCE_IMAGE_DATE: 1990 7 12
SOURCE_DEM_DATE: 1994 12 12
AGENCY: WESTERN MAPPING CENTER (WMC)
PRODUCER: Science Applications International
PRODUCTION_SYSTEM: GIS/MAGIC
COMPRESSION: UNDEFINED
STANDARD_VERSION: 1996 12
METADATA_DATE: 1997 5 20
DATA_FILE_SIZE: 42110523
BYTE_COUNT: 5481
