FILENAME: O4811330.SES.47082.tif
QUADRANGLE_NAME: KIOWA
QUADRANT: SE
WEST_LONGITUDE: -113 18 45.00000
EAST_LONGITUDE: -113 15 0.00000
NORTH_LATITUDE: 48 33 45.00000
SOUTH_LATITUDE: 48 30 0.00000
PRODUCTION_DATE: 1994 11 18
RASTER_ORDER: LEFT_RIGHT/TOP_BOTTOM
BAND_ORGANIZATION: SINGLE FILE
BAND_CONTENT: BLACK&WHITE
BAND_CONTENT: UNDEFINED
BAND_CONTENT: UNDEFINED
BITS_PER_PIXEL: 8
SAMPLES_AND_LINES: 5493 7689
HORIZONTAL_DATUM: NAD83
HORIZONTAL_COORDINATE_SYSTEM: UTM
COORDINATE_ZONE: 12
HORIZONTAL_UNITS: METERS
HORIZONTAL_RESOLUTION: 1.00000
SECONDARY_HORIZONTAL_DATUM: NAD27
XY_ORIGIN: 328807.00000 5381705.00000
SECONDARY_XY_ORIGIN: 328870.42800 5381487.27700
NATION: US
STATE: MT
NW_QUAD_CORNER_XY: 329387.15000 5381404.66200
NE_QUAD_CORNER_XY: 333998.01200 5381266.96100
SE_QUAD_CORNERY_XY: 333793.49800 5374320.35400
SW_QUAD_CORNER_XY: 329176.95000 5374458.09200
SECONDARY_NW_QUAD_XY: 329381.71800 5381185.76400
SECONDARY_NE_QUAD_XY: 333992.72700 5381048.05800
SECONDARY_SE_QUAD_XY: 333788.21300 5374101.45900
SECONDARY_SW_QUAD_XY: 329171.51900 5374239.20200
RMSE_XY: 2.00000
IMAGE_SOURCE: BLACK AND WHITE FILM
SOURCE_IMAGE_ID: PAPP 7617 555
SOURCE_IMAGE_DATE: 1990 9 7
SOURCE_DEM_DATE: 1994 11 18
AGENCY: WESTERN MAPPING CENTER (WMC)
PRODUCER: Science Applications International
PRODUCTION_SYSTEM: GIS/MAGIC
COMPRESSION: UNDEFINED
STANDARD_VERSION: 1996 12
METADATA_DATE: 1997 5 20
DATA_FILE_SIZE: 42241170
BYTE_COUNT: 5493
