FILENAME: O4811329.SES.47272.tif
QUADRANGLE_NAME: CUT BANK PASS
QUADRANT: SE
WEST_LONGITUDE: -113 26 15.00000
EAST_LONGITUDE: -113 22 30.00000
NORTH_LATITUDE: 48 33 45.00000
SOUTH_LATITUDE: 48 30 0.00000
PRODUCTION_DATE: 1995 4 27
RASTER_ORDER: LEFT_RIGHT/TOP_BOTTOM
BAND_ORGANIZATION: SINGLE FILE
BAND_CONTENT: BLACK&WHITE
BAND_CONTENT: UNDEFINED
BAND_CONTENT: UNDEFINED
BITS_PER_PIXEL: 8
SAMPLES_AND_LINES: 5505 7696
HORIZONTAL_DATUM: NAD83
HORIZONTAL_COORDINATE_SYSTEM: UTM
COORDINATE_ZONE: 12
HORIZONTAL_UNITS: METERS
HORIZONTAL_RESOLUTION: 1.00000
SECONDARY_HORIZONTAL_DATUM: NAD27
XY_ORIGIN: 319573.00000 5381992.00000
SECONDARY_XY_ORIGIN: 319636.37000 5381774.25000
NATION: US
STATE: MT
NW_QUAD_CORNER_XY: 320165.50000 5381691.39000
NE_QUAD_CORNER_XY: 324776.31000 5381546.14000
SE_QUAD_CORNERY_XY: 324560.43000 5374599.61000
SW_QUAD_CORNER_XY: 319943.93000 5374744.90000
SECONDARY_NW_QUAD_XY: 320159.78000 5381472.50000
SECONDARY_NE_QUAD_XY: 324770.73000 5381327.24000
SECONDARY_SE_QUAD_XY: 324554.85000 5374380.72000
SECONDARY_SW_QUAD_XY: 319938.20000 5374526.02000
RMSE_XY: 3.60000
IMAGE_SOURCE: BLACK AND WHITE FILM
SOURCE_IMAGE_ID: NAPP 4614 66
SOURCE_IMAGE_DATE: 1991 8 22
SOURCE_IMAGE_ID: NAPP 4614 4614
SOURCE_IMAGE_DATE: 1991 8 22
SOURCE_IMAGE_ID: NAPP 4614 77
SOURCE_IMAGE_DATE: 1991 8 22
SOURCE_IMAGE_ID: NAPP 4614 4614
SOURCE_IMAGE_DATE: 1991 8 22
SOURCE_IMAGE_ID: NAPP 4614 55
SOURCE_IMAGE_DATE: 1991 8 22
SOURCE_DEM_DATE: 1995 4 27
AGENCY: WESTERN MAPPING CENTER (WMC)
PRODUCER: Science Applications International
PRODUCTION_SYSTEM: GIS/MAGIC
COMPRESSION: UNDEFINED
STANDARD_VERSION: 1996 12
METADATA_DATE: 1997 5 20
DATA_FILE_SIZE: 42371985
BYTE_COUNT: 5505
