FILENAME: O4811327.NWS.47632.tif
QUADRANGLE_NAME: MOUNT JACKSON
QUADRANT: NW
WEST_LONGITUDE: -113 45 0.00000
EAST_LONGITUDE: -113 41 15.00000
NORTH_LATITUDE: 48 37 30.00000
SOUTH_LATITUDE: 48 33 45.00000
PRODUCTION_DATE: 1995 4 27
RASTER_ORDER: LEFT_RIGHT/TOP_BOTTOM
BAND_ORGANIZATION: SINGLE FILE
BAND_CONTENT: BLACK&WHITE
BAND_CONTENT: UNDEFINED
BAND_CONTENT: UNDEFINED
BITS_PER_PIXEL: 8
SAMPLES_AND_LINES: 5529 7714
HORIZONTAL_DATUM: NAD83
HORIZONTAL_COORDINATE_SYSTEM: UTM
COORDINATE_ZONE: 12
HORIZONTAL_UNITS: METERS
HORIZONTAL_RESOLUTION: 1.00000
SECONDARY_HORIZONTAL_DATUM: NAD27
XY_ORIGIN: 296740.00000 5389721.00000
SECONDARY_XY_ORIGIN: 296803.51000 5389502.71000
NATION: US
STATE: MT
NW_QUAD_CORNER_XY: 297362.11000 5389420.66000
NE_QUAD_CORNER_XY: 301967.09000 5389256.56000
SE_QUAD_CORNERY_XY: 301722.53000 5382310.18000
SW_QUAD_CORNER_XY: 297111.86000 5382474.32000
SECONDARY_NW_QUAD_XY: 297355.65000 5389201.78000
SECONDARY_NE_QUAD_XY: 301960.78000 5389037.68000
SECONDARY_SE_QUAD_XY: 301716.22000 5382091.31000
SECONDARY_SW_QUAD_XY: 297105.40000 5382255.45000
RMSE_XY: 7.10000
IMAGE_SOURCE: BLACK AND WHITE FILM
SOURCE_IMAGE_ID: NAPP 5615 22
SOURCE_IMAGE_DATE: 1991 8 26
SOURCE_IMAGE_ID: NAPP 5615 5615
SOURCE_IMAGE_DATE: 1991 8 26
SOURCE_IMAGE_ID: NAPP 5615 11
SOURCE_IMAGE_DATE: 1991 8 26
SOURCE_IMAGE_ID: NAPP 5615 5615
SOURCE_IMAGE_DATE: 1991 8 26
SOURCE_IMAGE_ID: NAPP 5615 33
SOURCE_IMAGE_DATE: 1991 8 26
SOURCE_DEM_DATE: 1995 4 27
AGENCY: WESTERN MAPPING CENTER (WMC)
PRODUCER: Science Applications International
PRODUCTION_SYSTEM: GIS/MAGIC
COMPRESSION: UNDEFINED
STANDARD_VERSION: 1996 12
METADATA_DATE: 1997 5 20
DATA_FILE_SIZE: 42656235
BYTE_COUNT: 5529
