FILENAME: O4811326.NES.47790.tif
QUADRANGLE_NAME: LAKE MCDONALD EAST
QUADRANT: NE
WEST_LONGITUDE: -113 48 45.00000
EAST_LONGITUDE: -113 45 0.00000
NORTH_LATITUDE: 48 37 30.00000
SOUTH_LATITUDE: 48 33 45.00000
PRODUCTION_DATE: 1995 4 27
RASTER_ORDER: LEFT_RIGHT/TOP_BOTTOM
BAND_ORGANIZATION: SINGLE FILE
BAND_CONTENT: BLACK&WHITE
BAND_CONTENT: UNDEFINED
BAND_CONTENT: UNDEFINED
BITS_PER_PIXEL: 8
SAMPLES_AND_LINES: 5534 7718
HORIZONTAL_DATUM: NAD83
HORIZONTAL_COORDINATE_SYSTEM: UTM
COORDINATE_ZONE: 12
HORIZONTAL_UNITS: METERS
HORIZONTAL_RESOLUTION: 1.00000
SECONDARY_HORIZONTAL_DATUM: NAD27
XY_ORIGIN: 292130.00000 5389889.00000
SECONDARY_XY_ORIGIN: 292193.50000 5389670.73000
NATION: US
STATE: MT
NW_QUAD_CORNER_XY: 292757.17000 5389588.53000
NE_QUAD_CORNER_XY: 297362.11000 5389420.66000
SE_QUAD_CORNERY_XY: 297111.86000 5382474.32000
SW_QUAD_CORNER_XY: 292501.22000 5382642.23000
SECONDARY_NW_QUAD_XY: 292750.56000 5389369.66000
SECONDARY_NE_QUAD_XY: 297355.65000 5389201.78000
SECONDARY_SE_QUAD_XY: 297105.40000 5382255.45000
SECONDARY_SW_QUAD_XY: 292494.61000 5382423.37000
RMSE_XY: 3.40000
IMAGE_SOURCE: BLACK AND WHITE FILM
SOURCE_IMAGE_ID: NAPP 5615 111
SOURCE_IMAGE_DATE: 1991 8 26
SOURCE_IMAGE_ID: NAPP 5615 212
SOURCE_IMAGE_DATE: 1991 8 26
SOURCE_IMAGE_ID: NAPP 5615 010
SOURCE_IMAGE_DATE: 1991 8 26
SOURCE_DEM_DATE: 1995 4 27
AGENCY: WESTERN MAPPING CENTER (WMC)
PRODUCER: Science Applications International
PRODUCTION_SYSTEM: GIS/MAGIC
COMPRESSION: UNDEFINED
STANDARD_VERSION: 1996 12
METADATA_DATE: 1997 5 20
DATA_FILE_SIZE: 42716946
BYTE_COUNT: 5534
